BEGIN:VCALENDAR
VERSION:2.0
PRODID:-//aldridgegardens.com//NONSGML kigkonsult.se iCalcreator 2.30.10//
CALSCALE:GREGORIAN
METHOD:PUBLISH
UID:4666613a-e7da-4e8d-a275-441540a7a0b7
X-WR-CALDESC:Tuesday\, December 3 • 10:00 a.m. to Noon\nDesigner:  Carol B.
  Harris\, of Lillie’s flowers \n$30 Members/$40 Non-Members\nLimited to 20
  participants\nPre-registration suggested\n\nWould you like to transform y
 our house into a “Southern Living Holiday Home” for the holiday season thi
 s year?  Come in for a morning of hands-on decorating at the Gardens\, and
  learn tips and tricks to reproduce the magical looks in your own home for
  the holidays. Carol will select areas in Aldridge House and out in the Ga
 rdens\, and demonstrate how to decorate mantels\, mailboxes\, lamp posts a
 nd entry halls using Alabama greens such as yew\, magnolia\, holly\, nandi
 na\, mixed with pine cones and berries. \n\nBring gloves\, clippers\, scis
 sors and cameras and you’ll be able to join the fun and learn new techniqu
 es. Bring a roll of your favorite ribbon and Carol will help you get start
 ed on making bows and suggest appropriate containers. Participants will re
 ceive a discount at Roots\, our Garden and Gift Shop on the day of class.
 \n
X-WR-RELCALID:fee507ef0367aeae0dd6720e7def8da9
X-WR-TIMEZONE:America/Chicago
BEGIN:VTIMEZONE
TZID:America/Chicago
BEGIN:STANDARD
TZNAME:CST
DTSTART:20131103T020000
TZOFFSETFROM:-0500
TZOFFSETTO:-0600
RDATE:20141102T020000
END:STANDARD
BEGIN:DAYLIGHT
TZNAME:CDT
DTSTART:20130310T020000
TZOFFSETFROM:-0600
TZOFFSETTO:-0500
RDATE:20140309T020000
RDATE:20150308T020000
END:DAYLIGHT
END:VTIMEZONE
BEGIN:VEVENT
UID:cb4fa8fd-0722-4325-8d38-54c085fed5c3
DTSTAMP:20260424T153638Z
DESCRIPTION:Tuesday\, December 3 • 10:00 a.m. to Noon\nDesigner:  Carol B. 
 Harris\, of Lillie’s flowers \n$30 Members/$40 Non-Members\nLimited to 20 
 participants\nPre-registration suggested\n\nWould you like to transform yo
 ur house into a “Southern Living Holiday Home” for the holiday season this
  year?  Come in for a morning of hands-on decorating at the Gardens\, and 
 learn tips and tricks to reproduce the magical looks in your own home for 
 the holidays. Carol will select areas in Aldridge House and out in the Gar
 dens\, and demonstrate how to decorate mantels\, mailboxes\, lamp posts an
 d entry halls using Alabama greens such as yew\, magnolia\, holly\, nandin
 a\, mixed with pine cones and berries. \n\nBring gloves\, clippers\, sciss
 ors and cameras and you’ll be able to join the fun and learn new technique
 s. Bring a roll of your favorite ribbon and Carol will help you get starte
 d on making bows and suggest appropriate containers. Participants will rec
 eive a discount at Roots\, our Garden and Gift Shop on the day of class.\n
DTSTART;TZID=America/Chicago:20131203T100000
DTEND;TZID=America/Chicago:20131203T120000
LOCATION:
SUMMARY:Holiday Decorating Ideas and Techniques
END:VEVENT
END:VCALENDAR
