BEGIN:VCALENDAR
VERSION:2.0
PRODID:-//aldridgegardens.com//NONSGML kigkonsult.se iCalcreator 2.30.10//
CALSCALE:GREGORIAN
METHOD:PUBLISH
UID:714505bf-fd54-40d2-8383-22fc09d501c0
X-WR-CALDESC:Samuel Collins offers 'a delicious collection of images and ar
 twork to satisfy the most demanding traveler.' Sam's work is influenced by
  everyday objects - signs\, buildings\, cars\, music\, advertising imagery
  and events of the mid 20th century. He uses painting\, photography\, digi
 tal images\, screen-printing and found objects to create his collage const
 ructions that reflect the American lifestyle and culture. \n\nAmy P. Colli
 ns says she takes inspiration from places she's been\, things she enjoys\,
  people and animals. Whether in a landscape\, a still life\, or a figure\,
  she tries to bring her viewers into the precise moment when she captures 
 the light and color nuances of an image.
X-WR-RELCALID:3a84820cb19563197dc5977894e48291
X-WR-TIMEZONE:America/Chicago
BEGIN:VTIMEZONE
TZID:America/Chicago
BEGIN:STANDARD
TZNAME:CST
DTSTART:20131103T020000
TZOFFSETFROM:-0500
TZOFFSETTO:-0600
RDATE:20141102T020000
END:STANDARD
BEGIN:DAYLIGHT
TZNAME:CDT
DTSTART:20130310T020000
TZOFFSETFROM:-0600
TZOFFSETTO:-0500
RDATE:20140309T020000
RDATE:20150308T020000
END:DAYLIGHT
END:VTIMEZONE
BEGIN:VEVENT
UID:0ec25cb5-d94c-4f5c-ba0d-6f808d778065
DTSTAMP:20260424T153851Z
DESCRIPTION:Samuel Collins offers 'a delicious collection of images and art
 work to satisfy the most demanding traveler.' Sam's work is influenced by 
 everyday objects - signs\, buildings\, cars\, music\, advertising imagery 
 and events of the mid 20th century. He uses painting\, photography\, digit
 al images\, screen-printing and found objects to create his collage constr
 uctions that reflect the American lifestyle and culture. \n\nAmy P. Collin
 s says she takes inspiration from places she's been\, things she enjoys\, 
 people and animals. Whether in a landscape\, a still life\, or a figure\, 
 she tries to bring her viewers into the precise moment when she captures t
 he light and color nuances of an image.
DTSTART;TZID=America/Chicago:20131204T190000
DTEND;TZID=America/Chicago:20131204T210000
LOCATION:Aldridge House
SUMMARY:Meet the Artists Reception - Samuel and Amy P. Collins
END:VEVENT
END:VCALENDAR
