BEGIN:VCALENDAR
VERSION:2.0
PRODID:-//aldridgegardens.com//NONSGML kigkonsult.se iCalcreator 2.30.10//
CALSCALE:GREGORIAN
METHOD:PUBLISH
UID:1f67db19-347e-4a87-8c02-34a8eef81abb
X-WR-CALDESC:
X-WR-RELCALID:e692efb53ed1b4d9ed7b508584a0002b
X-WR-TIMEZONE:America/Chicago
BEGIN:VTIMEZONE
TZID:America/Chicago
BEGIN:STANDARD
TZNAME:CST
DTSTART:20131103T020000
TZOFFSETFROM:-0500
TZOFFSETTO:-0600
RDATE:20141102T020000
END:STANDARD
BEGIN:DAYLIGHT
TZNAME:CDT
DTSTART:20130310T020000
TZOFFSETFROM:-0600
TZOFFSETTO:-0500
RDATE:20140309T020000
RDATE:20150308T020000
END:DAYLIGHT
END:VTIMEZONE
BEGIN:VEVENT
UID:ca0a3320-cbba-4335-adf2-e782d0bd8bc0
DTSTAMP:20260424T153736Z
DESCRIPTION:
DTSTART;TZID=America/Chicago:20131211T080000
DTEND;TZID=America/Chicago:20131211T100000
LOCATION:
SUMMARY:Volunteer Appreciation and Holiday Brunch
END:VEVENT
END:VCALENDAR
