BEGIN:VCALENDAR
VERSION:2.0
PRODID:-//aldridgegardens.com//NONSGML kigkonsult.se iCalcreator 2.30.10//
CALSCALE:GREGORIAN
METHOD:PUBLISH
UID:38adcd44-0214-4ae6-b7bc-d3e192d4e87d
X-WR-CALDESC:Saturday\, January 25\nDeborah Elliot\, Aldridge Gardens Board
  Member\, Garden Enthusiast and Blogger\n$12 members/$15 non-members\n\nWh
 en you're out shopping for plants at the nursery or big box store\, are yo
 u baffled by all the choices?\n\nWill this look good in my garden? \nAll y
 ear long or for just one season? \nWill it grow in our climate? \nOr in my
  soil?\nWhat about maintenance?  \nWhat plants are good for butterflies an
 d hummingbirds?  \nWill it attract deer or repel them? \nShould I buy pere
 nnials or annuals?  \n\nMany of us need help making those decisions - or w
 e just need someone to give us some guidance. Join us for this informative
  and fun class and discover how to choose plants that will make good addit
 ions to your garden - without all the stress!\n\nLearn more about Deb Elli
 ott at <a href=' http://debsgarden.squarespace.com/'>debsgarden.squarespac
 e.com</a>.
X-WR-RELCALID:991d7fbc4e0475ac78e596303f75c662
X-WR-TIMEZONE:America/Chicago
BEGIN:VTIMEZONE
TZID:America/Chicago
BEGIN:STANDARD
TZNAME:CST
DTSTART:20131103T020000
TZOFFSETFROM:-0500
TZOFFSETTO:-0600
RDATE:20141102T020000
END:STANDARD
BEGIN:DAYLIGHT
TZNAME:CDT
DTSTART:20130310T020000
TZOFFSETFROM:-0600
TZOFFSETTO:-0500
RDATE:20140309T020000
RDATE:20150308T020000
END:DAYLIGHT
END:VTIMEZONE
BEGIN:VEVENT
UID:f2369b51-2beb-4fd4-a527-194eed654b0f
DTSTAMP:20260424T143046Z
DESCRIPTION:Saturday\, January 25\nDeborah Elliot\, Aldridge Gardens Board 
 Member\, Garden Enthusiast and Blogger\n$12 members/$15 non-members\n\nWhe
 n you're out shopping for plants at the nursery or big box store\, are you
  baffled by all the choices?\n\nWill this look good in my garden? \nAll ye
 ar long or for just one season? \nWill it grow in our climate? \nOr in my 
 soil?\nWhat about maintenance?  \nWhat plants are good for butterflies and
  hummingbirds?  \nWill it attract deer or repel them? \nShould I buy peren
 nials or annuals?  \n\nMany of us need help making those decisions - or we
  just need someone to give us some guidance. Join us for this informative 
 and fun class and discover how to choose plants that will make good additi
 ons to your garden - without all the stress!\n\nLearn more about Deb Ellio
 tt at <a href=' http://debsgarden.squarespace.com/'>debsgarden.squarespace
 .com</a>.
DTSTART;TZID=America/Chicago:20140125T093000
DTEND;TZID=America/Chicago:20140125T113000
LOCATION:
SUMMARY:Do You Choose Your Plants or Do They Jump Into Your Buggy?
END:VEVENT
END:VCALENDAR
