BEGIN:VCALENDAR
VERSION:2.0
PRODID:-//aldridgegardens.com//NONSGML kigkonsult.se iCalcreator 2.30.10//
CALSCALE:GREGORIAN
METHOD:PUBLISH
UID:db139b71-526a-4e8c-a267-75b353a70983
X-WR-CALDESC:Former students of teacher Soon-Bok Sellers will be exhibiting
  in her honor in February and March in the Eddie & Kay Aldridge Art & Hist
 orical Collections Museum. Soon-Bok was art teacher at the old Berry High 
 School\, and then became coordinator of art for the Hoover school system.
X-WR-RELCALID:83b5263b538ac250eb1df6ea39b01c5b
X-WR-TIMEZONE:America/Chicago
BEGIN:VTIMEZONE
TZID:America/Chicago
BEGIN:STANDARD
TZNAME:CST
DTSTART:20131103T020000
TZOFFSETFROM:-0500
TZOFFSETTO:-0600
RDATE:20141102T020000
END:STANDARD
BEGIN:DAYLIGHT
TZNAME:CDT
DTSTART:20130310T020000
TZOFFSETFROM:-0600
TZOFFSETTO:-0500
RDATE:20140309T020000
RDATE:20150308T020000
END:DAYLIGHT
END:VTIMEZONE
BEGIN:VEVENT
UID:76a89eb5-0526-4139-ac29-6c7f90cfa995
DTSTAMP:20260424T122630Z
DESCRIPTION:Former students of teacher Soon-Bok Sellers will be exhibiting 
 in her honor in February and March in the Eddie & Kay Aldridge Art & Histo
 rical Collections Museum. Soon-Bok was art teacher at the old Berry High S
 chool\, and then became coordinator of art for the Hoover school system.
DTSTART;TZID=America/Chicago:20140221T170000
DTEND;TZID=America/Chicago:20140221T200000
LOCATION:Eddie & Kay Aldridge Art & Historical Collections Museum
SUMMARY:Meet the Artists Reception - Former students of Soon-Bok Sellers
END:VEVENT
END:VCALENDAR
