BEGIN:VCALENDAR
VERSION:2.0
PRODID:-//aldridgegardens.com//NONSGML kigkonsult.se iCalcreator 2.30.10//
CALSCALE:GREGORIAN
METHOD:PUBLISH
UID:20a6b3da-1bf8-4a01-b793-ec0d9d3fb38f
X-WR-CALDESC:Tuesday\, February 25\nSalon Talk with Wine and Cheese\nRefres
 hments at 6:30/Program begins at 7:00 p.m.\n$14 members/$17 non-members\, 
 pre-registration is suggested\nPresenter:  Richard Ryel\, Ph.D.\, Physiolo
 gy and Biophysics   \nFounder International Expeditions\, and Past Preside
 nt\, International Ecotourism Society\n\nJoin us for presentation and conv
 ersation about the Amazon Basin. At close to 3-million square miles\, the 
 sheer immensity and biodiversity of the region is virtually incomprehensib
 le. The mighty Amazon River with 1\,000 tributaries in nine countries\, fl
 ows over more than 4\,000 miles across the South American continent.  Dr. 
 Ryel spent more than a year experiencing many of the natural and cultural 
 wonders of this wilderness area\, where the abundant diversity of wildlife
  is unequaled anywhere else on Earth. Join us to learn more about one of t
 he great natural wonders of our planet\, the threats that challenge its su
 rvival\, and what must be done to conserve this natural treasure.
X-WR-RELCALID:3c6ab21b3b01dac17fbd4885bbcb7bcc
X-WR-TIMEZONE:America/Chicago
BEGIN:VTIMEZONE
TZID:America/Chicago
BEGIN:STANDARD
TZNAME:CST
DTSTART:20131103T020000
TZOFFSETFROM:-0500
TZOFFSETTO:-0600
RDATE:20141102T020000
END:STANDARD
BEGIN:DAYLIGHT
TZNAME:CDT
DTSTART:20130310T020000
TZOFFSETFROM:-0600
TZOFFSETTO:-0500
RDATE:20140309T020000
RDATE:20150308T020000
END:DAYLIGHT
END:VTIMEZONE
BEGIN:VEVENT
UID:9a60b319-a0e3-48ee-ad10-2793aaf8f7c5
DTSTAMP:20260424T122138Z
DESCRIPTION:Tuesday\, February 25\nSalon Talk with Wine and Cheese\nRefresh
 ments at 6:30/Program begins at 7:00 p.m.\n$14 members/$17 non-members\, p
 re-registration is suggested\nPresenter:  Richard Ryel\, Ph.D.\, Physiolog
 y and Biophysics   \nFounder International Expeditions\, and Past Presiden
 t\, International Ecotourism Society\n\nJoin us for presentation and conve
 rsation about the Amazon Basin. At close to 3-million square miles\, the s
 heer immensity and biodiversity of the region is virtually incomprehensibl
 e. The mighty Amazon River with 1\,000 tributaries in nine countries\, flo
 ws over more than 4\,000 miles across the South American continent.  Dr. R
 yel spent more than a year experiencing many of the natural and cultural w
 onders of this wilderness area\, where the abundant diversity of wildlife 
 is unequaled anywhere else on Earth. Join us to learn more about one of th
 e great natural wonders of our planet\, the threats that challenge its sur
 vival\, and what must be done to conserve this natural treasure.
DTSTART;TZID=America/Chicago:20140225T190000
DTEND;TZID=America/Chicago:20140225T210000
LOCATION:Aldridge House
SUMMARY:Amazon: Earth’s Greatest Wilderness
END:VEVENT
END:VCALENDAR
