BEGIN:VCALENDAR
VERSION:2.0
PRODID:-//aldridgegardens.com//NONSGML kigkonsult.se iCalcreator 2.30.10//
CALSCALE:GREGORIAN
METHOD:PUBLISH
UID:e687fddf-b1cb-4b47-ac99-10da25f0a900
X-WR-CALDESC:<i>Presented by the Hoover Beautification Board</i>\n\n9:30 a.
 m. Tree giveaway\n10:30 a.m. Arbor Day ceremony and announcement of essay 
 contest winners\n
X-WR-RELCALID:de8e60533b73d71539017167b6ab430f
X-WR-TIMEZONE:America/Chicago
BEGIN:VTIMEZONE
TZID:America/Chicago
BEGIN:STANDARD
TZNAME:CST
DTSTART:20131103T020000
TZOFFSETFROM:-0500
TZOFFSETTO:-0600
RDATE:20141102T020000
END:STANDARD
BEGIN:DAYLIGHT
TZNAME:CDT
DTSTART:20130310T020000
TZOFFSETFROM:-0600
TZOFFSETTO:-0500
RDATE:20140309T020000
RDATE:20150308T020000
END:DAYLIGHT
END:VTIMEZONE
BEGIN:VEVENT
UID:8d46ef23-4af4-477b-9d6e-2153891f18e6
DTSTAMP:20260424T105417Z
DESCRIPTION:<i>Presented by the Hoover Beautification Board</i>\n\n9:30 a.m
 . Tree giveaway\n10:30 a.m. Arbor Day ceremony and announcement of essay c
 ontest winners\n
DTSTART;TZID=America/Chicago:20140308T093000
DTEND;TZID=America/Chicago:20140308T113000
LOCATION:
SUMMARY:Arbor Day Ceremony
END:VEVENT
END:VCALENDAR
