BEGIN:VCALENDAR
VERSION:2.0
PRODID:-//aldridgegardens.com//NONSGML kigkonsult.se iCalcreator 2.30.10//
CALSCALE:GREGORIAN
METHOD:PUBLISH
UID:04f1fbb3-7e4e-4fc8-ae6e-970c79c656c1
X-WR-CALDESC:Snakes get a bad rap and are misunderstood animals. But in rea
 lity\, they're often important players in the natural world.  \n\nDr. Ken 
 Marion\, Biology Professor at UAB will show us these amazing creatures up 
 close\, and help us learn all about the secrets of Alabama snakes and how 
 they have vital roles in our ecosystem. \n\nThis Family Nature Program is 
 intended for both individuals and/or families to enjoy.\n\nMembers:  \nChi
 ld $5\nAdult $10\nFamily maximum $20\n\nNon-members:  \nChild $7\nAdult $1
 3\nFamily maximum $26\n\nTeachers:\nMember price with professional develop
 ment hours.
X-WR-RELCALID:bf70bf6b097536394768917bbe65fbb7
X-WR-TIMEZONE:America/Chicago
BEGIN:VTIMEZONE
TZID:America/Chicago
BEGIN:STANDARD
TZNAME:CST
DTSTART:20131103T020000
TZOFFSETFROM:-0500
TZOFFSETTO:-0600
RDATE:20141102T020000
END:STANDARD
BEGIN:DAYLIGHT
TZNAME:CDT
DTSTART:20140309T020000
TZOFFSETFROM:-0600
TZOFFSETTO:-0500
RDATE:20150308T020000
END:DAYLIGHT
END:VTIMEZONE
BEGIN:VEVENT
UID:10394beb-c3b2-43f5-b8d8-1aa01940980c
DTSTAMP:20260424T104702Z
DESCRIPTION:Snakes get a bad rap and are misunderstood animals. But in real
 ity\, they're often important players in the natural world.  \n\nDr. Ken M
 arion\, Biology Professor at UAB will show us these amazing creatures up c
 lose\, and help us learn all about the secrets of Alabama snakes and how t
 hey have vital roles in our ecosystem. \n\nThis Family Nature Program is i
 ntended for both individuals and/or families to enjoy.\n\nMembers:  \nChil
 d $5\nAdult $10\nFamily maximum $20\n\nNon-members:  \nChild $7\nAdult $13
 \nFamily maximum $26\n\nTeachers:\nMember price with professional developm
 ent hours.
DTSTART;TZID=America/Chicago:20140311T063000
DTEND;TZID=America/Chicago:20140311T200000
LOCATION:
SUMMARY:Snakes\, the Unhuggables
END:VEVENT
END:VCALENDAR
