BEGIN:VCALENDAR
VERSION:2.0
PRODID:-//aldridgegardens.com//NONSGML kigkonsult.se iCalcreator 2.30.10//
CALSCALE:GREGORIAN
METHOD:PUBLISH
UID:afb9bd90-6cbc-49c8-9e57-abab8e8dea1c
X-WR-CALDESC:Led by Dr. Richard and Patricia Ryel\nSee the Gardens like you
  never have before. Enjoy a 2-hour guided walk and discover the birds of A
 ldridge Gardens as they migrate through our area. Bring binoculars so you 
 don't miss a thing!\nThis walk is for free and for members only\, and is l
 imited to 15 participants. Pre-registration is required. \n
X-WR-RELCALID:3260b5e23d4e07d2fe219a8d82db177a
X-WR-TIMEZONE:America/Chicago
BEGIN:VTIMEZONE
TZID:America/Chicago
BEGIN:STANDARD
TZNAME:CST
DTSTART:20131103T020000
TZOFFSETFROM:-0500
TZOFFSETTO:-0600
RDATE:20141102T020000
END:STANDARD
BEGIN:DAYLIGHT
TZNAME:CDT
DTSTART:20140309T020000
TZOFFSETFROM:-0600
TZOFFSETTO:-0500
RDATE:20150308T020000
END:DAYLIGHT
END:VTIMEZONE
BEGIN:VEVENT
UID:a3ea0beb-a320-4607-8f39-75f8d6c11cfa
DTSTAMP:20260424T105823Z
DESCRIPTION:Led by Dr. Richard and Patricia Ryel\nSee the Gardens like you 
 never have before. Enjoy a 2-hour guided walk and discover the birds of Al
 dridge Gardens as they migrate through our area. Bring binoculars so you d
 on't miss a thing!\nThis walk is for free and for members only\, and is li
 mited to 15 participants. Pre-registration is required. \n
DTSTART;TZID=America/Chicago:20140315T080000
DTEND;TZID=America/Chicago:20140315T100000
LOCATION:Entrance Plaza
SUMMARY:Members Only Guided Bird Walk
END:VEVENT
END:VCALENDAR
