BEGIN:VCALENDAR
VERSION:2.0
PRODID:-//aldridgegardens.com//NONSGML kigkonsult.se iCalcreator 2.30.10//
CALSCALE:GREGORIAN
METHOD:PUBLISH
UID:c157a27d-e8e0-4c89-9cd2-e8fd4d27966e
X-WR-CALDESC:Bring your best friends out for a stroll in the Gardens! Enjoy
  food\, dog-friendly demonstrations and vendors\, and get doggone good adv
 ice. \n\nProceeds benefit Shelby County Humane Society and Aldridge Garden
 s. \n$10/dog\n\nSchedule of events:\n9:15 a.m. – “Ask a Vet” session with 
 Dr. Jay Price from Oak View Animal Hospital\n9:30 a.m. – Bomb dog demonstr
 ation by Hoover Police Department \n10:00 a.m. – Face painting by Magic Ci
 ty Face Art\n10:15 a.m. – Presentation on the Alabama War Dog by John O'Ma
 lley of the Lt. General Victor 'Brute' Krulak detachment of the Marine Cor
 ps League\n11:15 a.m. – Dog nutrition with Pet Supplies Plus\n11:30 a.m. –
  Best trick contest\nNoon to 2:00 p.m. – Live music by Erath Old\n12:30 p.
 m. – Essential oils for dogs demonstration by Bodhisala Botanicals\n12:45 
 p.m. – Upland dog training demonstration by Christy Lee’s English Setters/
 Adoggio\n1:00 p.m. – “Ask a Vet” session with Dr. Jay Price from Oak View 
 Animal Hospital\n1:30 p.m. – Bomb dog demonstration by Hoover Police Depar
 tment \n2:15 p.m. – Best dog costume contest\n3:15 p.m. – Presentation on 
 the Alabama War Dog by John O'Malley of the Lt. General Victor 'Brute' Kru
 lak detachment of the Marine Corps League\n4:15 p.m. – Obedience demonstra
 tion by Christy Lee’s English Setters/Adoggio\n4:45 p.m. – Essential oils 
 for dogs demonstration by Bodhisala Botanicals\n\n<b>2014 participants:</b
 >\nAdopt A Golden\nAnimal Control\nBirmingham Barons mascot Lilly Mays\nBo
 dhisala Botanicals\nBully Rescue\nCahaBones\nChristy Lee’s English Setters
 /Adoggio\nConnie Collum – local pet photographer\nD'Armond Catering\nDebbi
 e Taylor Reese – local artist\nErath Old\nHand In Paw\nHollywood Feed\nHoo
 ver Police Department\nJazzy J Designs\nMagic City Face Art\nMarine Corps 
 League / Lt. General Victor “Brute” Krulak detachment\, Hoover\, AL\nOakvi
 ew Animal Hospital\nPeace\, Love and Dog Paws\nPet Supplies Plus\nRed Moun
 tain Animal\nRepicci’s Italian Ice\nShelby Humane Society\nSnappy's Gourme
 t Dog Treats\nWhiskers and Wags Pet Boutique\n
X-WR-RELCALID:491aa5a54062bdce9eb1cfd1fa209af7
X-WR-TIMEZONE:America/Chicago
BEGIN:VTIMEZONE
TZID:America/Chicago
BEGIN:STANDARD
TZNAME:CST
DTSTART:20131103T020000
TZOFFSETFROM:-0500
TZOFFSETTO:-0600
RDATE:20141102T020000
END:STANDARD
BEGIN:DAYLIGHT
TZNAME:CDT
DTSTART:20140309T020000
TZOFFSETFROM:-0600
TZOFFSETTO:-0500
RDATE:20150308T020000
END:DAYLIGHT
END:VTIMEZONE
BEGIN:VEVENT
UID:c1d8aee8-796a-4be3-8a0f-3f2fbd982989
DTSTAMP:20260424T111214Z
DESCRIPTION:Bring your best friends out for a stroll in the Gardens! Enjoy 
 food\, dog-friendly demonstrations and vendors\, and get doggone good advi
 ce. \n\nProceeds benefit Shelby County Humane Society and Aldridge Gardens
 . \n$10/dog\n\nSchedule of events:\n9:15 a.m. – “Ask a Vet” session with D
 r. Jay Price from Oak View Animal Hospital\n9:30 a.m. – Bomb dog demonstra
 tion by Hoover Police Department \n10:00 a.m. – Face painting by Magic Cit
 y Face Art\n10:15 a.m. – Presentation on the Alabama War Dog by John O'Mal
 ley of the Lt. General Victor 'Brute' Krulak detachment of the Marine Corp
 s League\n11:15 a.m. – Dog nutrition with Pet Supplies Plus\n11:30 a.m. – 
 Best trick contest\nNoon to 2:00 p.m. – Live music by Erath Old\n12:30 p.m
 . – Essential oils for dogs demonstration by Bodhisala Botanicals\n12:45 p
 .m. – Upland dog training demonstration by Christy Lee’s English Setters/A
 doggio\n1:00 p.m. – “Ask a Vet” session with Dr. Jay Price from Oak View A
 nimal Hospital\n1:30 p.m. – Bomb dog demonstration by Hoover Police Depart
 ment \n2:15 p.m. – Best dog costume contest\n3:15 p.m. – Presentation on t
 he Alabama War Dog by John O'Malley of the Lt. General Victor 'Brute' Krul
 ak detachment of the Marine Corps League\n4:15 p.m. – Obedience demonstrat
 ion by Christy Lee’s English Setters/Adoggio\n4:45 p.m. – Essential oils f
 or dogs demonstration by Bodhisala Botanicals\n\n<b>2014 participants:</b>
 \nAdopt A Golden\nAnimal Control\nBirmingham Barons mascot Lilly Mays\nBod
 hisala Botanicals\nBully Rescue\nCahaBones\nChristy Lee’s English Setters/
 Adoggio\nConnie Collum – local pet photographer\nD'Armond Catering\nDebbie
  Taylor Reese – local artist\nErath Old\nHand In Paw\nHollywood Feed\nHoov
 er Police Department\nJazzy J Designs\nMagic City Face Art\nMarine Corps L
 eague / Lt. General Victor “Brute” Krulak detachment\, Hoover\, AL\nOakvie
 w Animal Hospital\nPeace\, Love and Dog Paws\nPet Supplies Plus\nRed Mount
 ain Animal\nRepicci’s Italian Ice\nShelby Humane Society\nSnappy's Gourmet
  Dog Treats\nWhiskers and Wags Pet Boutique\n
DTSTART;TZID=America/Chicago:20140322T090000
DTEND;TZID=America/Chicago:20140322T170000
LOCATION:
SUMMARY:PAWS in the Gardens
END:VEVENT
END:VCALENDAR
