BEGIN:VCALENDAR
VERSION:2.0
PRODID:-//aldridgegardens.com//NONSGML kigkonsult.se iCalcreator 2.30.10//
CALSCALE:GREGORIAN
METHOD:PUBLISH
UID:b11691da-6505-4a46-8aff-29a8aa0dc934
X-WR-CALDESC:Meet Fred Nall Hollis – “Nall” – the internationally-known art
 ist from Alabama. Nall has studios in Fairhope\, Alabama\, Monaco and Venc
 e\, France. He has pieces in permanent collection at the Pompidou Center i
 n Paris\, as well as other major museums. His clients include Prince Alber
 t of Monaco\, Catherine Deneuve and Ringo Starr\, among others. Nall has c
 urated works in Renaissance Marriot Hotels throughout Alabama\, where he s
 trives to give visitors a better understanding of the state’s culture thro
 ugh its art. \n\n<i>This special event is sponsored by The Nall Foundation
  and Asian Rim Authentic Thai\, Signature Sushi & Pan-Asian Cuisine</i>\n
 \n<i>Photo courtesy: Alabama Magazine</i>
X-WR-RELCALID:983ec45dc8e8d75f01d4ae9dadf3353b
X-WR-TIMEZONE:America/Chicago
BEGIN:VTIMEZONE
TZID:America/Chicago
BEGIN:STANDARD
TZNAME:CST
DTSTART:20131103T020000
TZOFFSETFROM:-0500
TZOFFSETTO:-0600
RDATE:20141102T020000
END:STANDARD
BEGIN:DAYLIGHT
TZNAME:CDT
DTSTART:20140309T020000
TZOFFSETFROM:-0600
TZOFFSETTO:-0500
RDATE:20150308T020000
END:DAYLIGHT
END:VTIMEZONE
BEGIN:VEVENT
UID:8cb35e87-f7a0-4c6d-9d54-d0f874d4e533
DTSTAMP:20260424T113657Z
DESCRIPTION:Meet Fred Nall Hollis – “Nall” – the internationally-known arti
 st from Alabama. Nall has studios in Fairhope\, Alabama\, Monaco and Vence
 \, France. He has pieces in permanent collection at the Pompidou Center in
  Paris\, as well as other major museums. His clients include Prince Albert
  of Monaco\, Catherine Deneuve and Ringo Starr\, among others. Nall has cu
 rated works in Renaissance Marriot Hotels throughout Alabama\, where he st
 rives to give visitors a better understanding of the state’s culture throu
 gh its art. \n\n<i>This special event is sponsored by The Nall Foundation 
 and Asian Rim Authentic Thai\, Signature Sushi & Pan-Asian Cuisine</i>\n\n
 <i>Photo courtesy: Alabama Magazine</i>
DTSTART;TZID=America/Chicago:20140327T170000
DTEND;TZID=America/Chicago:20140327T200000
LOCATION:Aldridge House
SUMMARY:Meet the Artist Reception - Nall
END:VEVENT
END:VCALENDAR
