BEGIN:VCALENDAR
VERSION:2.0
PRODID:-//aldridgegardens.com//NONSGML kigkonsult.se iCalcreator 2.30.10//
CALSCALE:GREGORIAN
METHOD:PUBLISH
UID:aba2cfaf-9e30-4bc3-809a-2320866fcb61
X-WR-CALDESC:<b>THIS EVENT HAS BEEN CANCELED</b>\n\n$5 admission for visito
 rs 18 and older\n$3 passport is available for those school-age children wa
 nting to participate in take-home crafts\n\nThis spring take a trip back i
 n time to rediscover the culture and contributions of Native Alabamians at
  <i><b>Whispers From the Past – A Native American Experience.</i></b>\n\nN
 ative American life will take shape through demonstrations of flintknappin
 g\, cooking and hunting weapons\, and activities like leaf pounding\, bead
 ing\, corn grinding\, gourd painting and pottery. Children can try their h
 ands at games and activities. At 2:00\, Naturalist Dr. Richard Cobb will p
 resent 'Evolution of Culture and Technology in Prehistoric Alabama.'\n\nHe
 ar the sounds of drums and flutes and the highlight of the day — three dan
 ce performances by the Sylestine Legacy\, a family of Alabama Coushatta Na
 tive Americans — including a black-light performance at 7:15.\n\nVendors w
 ill sell fry bread and Indian tacos\, as well as coins\, antler carving an
 d knives\, beaded jewelry\, carved shell jewelry and items for children in
 cluding flutes and beaded jewelry.\n\n<i>This event is made possible in pa
 rt by Energen. Thanks also to our corporate sponsors AT&T\, Blue Cross & B
 lue Shield of Alabama\, Walter Energy and Protective Life.</i>\n\n\n
X-WR-RELCALID:1743d9a8ca6419f85ea069c125ceed9a
X-WR-TIMEZONE:America/Chicago
BEGIN:VTIMEZONE
TZID:America/Chicago
BEGIN:STANDARD
TZNAME:CST
DTSTART:20131103T020000
TZOFFSETFROM:-0500
TZOFFSETTO:-0600
RDATE:20141102T020000
END:STANDARD
BEGIN:DAYLIGHT
TZNAME:CDT
DTSTART:20140309T020000
TZOFFSETFROM:-0600
TZOFFSETTO:-0500
RDATE:20150308T020000
END:DAYLIGHT
END:VTIMEZONE
BEGIN:VEVENT
UID:42b4b6ec-fed5-4684-961b-85259de5c88a
DTSTAMP:20260424T092020Z
DESCRIPTION:<b>THIS EVENT HAS BEEN CANCELED</b>\n\n$5 admission for visitor
 s 18 and older\n$3 passport is available for those school-age children wan
 ting to participate in take-home crafts\n\nThis spring take a trip back in
  time to rediscover the culture and contributions of Native Alabamians at 
 <i><b>Whispers From the Past – A Native American Experience.</i></b>\n\nNa
 tive American life will take shape through demonstrations of flintknapping
 \, cooking and hunting weapons\, and activities like leaf pounding\, beadi
 ng\, corn grinding\, gourd painting and pottery. Children can try their ha
 nds at games and activities. At 2:00\, Naturalist Dr. Richard Cobb will pr
 esent 'Evolution of Culture and Technology in Prehistoric Alabama.'\n\nHea
 r the sounds of drums and flutes and the highlight of the day — three danc
 e performances by the Sylestine Legacy\, a family of Alabama Coushatta Nat
 ive Americans — including a black-light performance at 7:15.\n\nVendors wi
 ll sell fry bread and Indian tacos\, as well as coins\, antler carving and
  knives\, beaded jewelry\, carved shell jewelry and items for children inc
 luding flutes and beaded jewelry.\n\n<i>This event is made possible in par
 t by Energen. Thanks also to our corporate sponsors AT&T\, Blue Cross & Bl
 ue Shield of Alabama\, Walter Energy and Protective Life.</i>\n\n\n
DTSTART;TZID=America/Chicago:20140406T113000
DTEND;TZID=America/Chicago:20140406T193000
LOCATION:
SUMMARY:Whispers from the Past
END:VEVENT
END:VCALENDAR
