BEGIN:VCALENDAR
VERSION:2.0
PRODID:-//aldridgegardens.com//NONSGML kigkonsult.se iCalcreator 2.30.10//
CALSCALE:GREGORIAN
METHOD:PUBLISH
UID:bf866483-0319-4df9-9b73-1f5f83fc0842
X-WR-CALDESC:Led by Dr. Richard and Patricia Ryel\nSee the Gardens like you
  never have before. Enjoy a 2-hour guided walk and discover the birds of A
 ldridge Gardens as they migrate through our area. Bring binoculars so you 
 don't miss a thing!\nThis walk is free and for members only\, but is limit
 ed to 15 participants so we ask that you please pre-register. \n
X-WR-RELCALID:0aae9440b5c793ecfca9d7028477a021
X-WR-TIMEZONE:America/Chicago
BEGIN:VTIMEZONE
TZID:America/Chicago
BEGIN:STANDARD
TZNAME:CST
DTSTART:20131103T020000
TZOFFSETFROM:-0500
TZOFFSETTO:-0600
RDATE:20141102T020000
END:STANDARD
BEGIN:DAYLIGHT
TZNAME:CDT
DTSTART:20140309T020000
TZOFFSETFROM:-0600
TZOFFSETTO:-0500
RDATE:20150308T020000
END:DAYLIGHT
END:VTIMEZONE
BEGIN:VEVENT
UID:995ca02a-f1e7-4b56-add8-99fb6807046b
DTSTAMP:20260424T092422Z
DESCRIPTION:Led by Dr. Richard and Patricia Ryel\nSee the Gardens like you 
 never have before. Enjoy a 2-hour guided walk and discover the birds of Al
 dridge Gardens as they migrate through our area. Bring binoculars so you d
 on't miss a thing!\nThis walk is free and for members only\, but is limite
 d to 15 participants so we ask that you please pre-register. \n
DTSTART;TZID=America/Chicago:20140419T080000
DTEND;TZID=America/Chicago:20140419T100000
LOCATION:Entrance Plaza
SUMMARY:Members Only Guided Bird Walk
END:VEVENT
END:VCALENDAR
