BEGIN:VCALENDAR
VERSION:2.0
PRODID:-//aldridgegardens.com//NONSGML kigkonsult.se iCalcreator 2.30.10//
CALSCALE:GREGORIAN
METHOD:PUBLISH
UID:579eacdf-72b6-41c9-99c0-167808845ebb
X-WR-CALDESC:Learn how a tiny egg\, the size of a grain of sand\, transform
 s into a beautiful\, colorful butterfly. Mike Howell\, PhD\, author\, biol
 ogist and Professor Emeritus at Samford University will teach us about the
  life cycle of butterflies in our area. \n\nEach family that registers for
  this Family Nature Program will receive a butterfly host plant. Plant in 
 a sunny spot\, then wait to see if a butterfly lays eggs that transform in
 to caterpillars. \n\nMembers: \nChild $5\nAdult $10\nFamily maximum $20\n
 \nNon-members:\nChild $7\nAdult $10\nFamily maximum $26\n\nTeachers: Membe
 r price with professional development hours
X-WR-RELCALID:f39e64e885205a2d3fffa9bf7f613831
X-WR-TIMEZONE:America/Chicago
BEGIN:VTIMEZONE
TZID:America/Chicago
BEGIN:STANDARD
TZNAME:CST
DTSTART:20131103T020000
TZOFFSETFROM:-0500
TZOFFSETTO:-0600
RDATE:20141102T020000
END:STANDARD
BEGIN:DAYLIGHT
TZNAME:CDT
DTSTART:20140309T020000
TZOFFSETFROM:-0600
TZOFFSETTO:-0500
RDATE:20150308T020000
END:DAYLIGHT
END:VTIMEZONE
BEGIN:VEVENT
UID:395208e8-009b-45e2-880e-f0ea7b36debd
DTSTAMP:20260424T091620Z
DESCRIPTION:Learn how a tiny egg\, the size of a grain of sand\, transforms
  into a beautiful\, colorful butterfly. Mike Howell\, PhD\, author\, biolo
 gist and Professor Emeritus at Samford University will teach us about the 
 life cycle of butterflies in our area. \n\nEach family that registers for 
 this Family Nature Program will receive a butterfly host plant. Plant in a
  sunny spot\, then wait to see if a butterfly lays eggs that transform int
 o caterpillars. \n\nMembers: \nChild $5\nAdult $10\nFamily maximum $20\n\n
 Non-members:\nChild $7\nAdult $10\nFamily maximum $26\n\nTeachers: Member 
 price with professional development hours
DTSTART;TZID=America/Chicago:20140422T183000
DTEND;TZID=America/Chicago:20140422T200000
LOCATION:
SUMMARY:Caterpillars to Butterflies: How These Insects Use Plants to Thrive
END:VEVENT
END:VCALENDAR
