BEGIN:VCALENDAR
VERSION:2.0
PRODID:-//aldridgegardens.com//NONSGML kigkonsult.se iCalcreator 2.30.10//
CALSCALE:GREGORIAN
METHOD:PUBLISH
UID:5af631c7-2404-41a3-b7f0-0a88b2c3ee41
X-WR-CALDESC:Members - come out and get first pick at more than a hundred d
 ifferent plants! Choose from Alabama natives\, Alabama native azaleas\, hy
 drangeas\, butterfly bushes\, David Austin roses\, perennial bulbs\, rhizo
 mes\, companion plants and more!\n\nThis year you'll find the star of our 
 show\, Snowflake Hydrangea\, and for the first time we're also featuring T
 easing Georgia Rose\, White Feathers Hosta\, Gatsby’s Star Hydrangea and P
 lumleaf Azalea. \n\n<a href='http://aldridgegardens.com/education/events20
 13/annual_events/annual_plant_sale/plants_available.html'>List of 2014 pla
 nts for sale</a>\n<a href='http://aldridgegardens.com/education/events2013
 /annual_events/annual_plant_sale/featured_plants.html'>This year's feature
 d plants</a>\n<a href='http://aldridgegardens.com/education/events2013/ann
 ual_events/annual_plant_sale/care_maintenance.html'>Weekend care and maint
 enance class schedule</a>\n\nAnd remember - as members you'll always get 1
 0% off plant purchases!
X-WR-RELCALID:fab1cef2e6626861710892550c4e0a1b
X-WR-TIMEZONE:America/Chicago
BEGIN:VTIMEZONE
TZID:America/Chicago
BEGIN:STANDARD
TZNAME:CST
DTSTART:20131103T020000
TZOFFSETFROM:-0500
TZOFFSETTO:-0600
RDATE:20141102T020000
END:STANDARD
BEGIN:DAYLIGHT
TZNAME:CDT
DTSTART:20140309T020000
TZOFFSETFROM:-0600
TZOFFSETTO:-0500
RDATE:20150308T020000
END:DAYLIGHT
END:VTIMEZONE
BEGIN:VEVENT
UID:8d0a6e55-61fc-48b9-8198-e056ab2afdef
DTSTAMP:20260424T080345Z
DESCRIPTION:Members - come out and get first pick at more than a hundred di
 fferent plants! Choose from Alabama natives\, Alabama native azaleas\, hyd
 rangeas\, butterfly bushes\, David Austin roses\, perennial bulbs\, rhizom
 es\, companion plants and more!\n\nThis year you'll find the star of our s
 how\, Snowflake Hydrangea\, and for the first time we're also featuring Te
 asing Georgia Rose\, White Feathers Hosta\, Gatsby’s Star Hydrangea and Pl
 umleaf Azalea. \n\n<a href='http://aldridgegardens.com/education/events201
 3/annual_events/annual_plant_sale/plants_available.html'>List of 2014 plan
 ts for sale</a>\n<a href='http://aldridgegardens.com/education/events2013/
 annual_events/annual_plant_sale/featured_plants.html'>This year's featured
  plants</a>\n<a href='http://aldridgegardens.com/education/events2013/annu
 al_events/annual_plant_sale/care_maintenance.html'>Weekend care and mainte
 nance class schedule</a>\n\nAnd remember - as members you'll always get 10
 % off plant purchases!
DTSTART;TZID=America/Chicago:20140501T160000
DTEND;TZID=America/Chicago:20140501T180000
LOCATION:
SUMMARY:Members Only Preview - 12th Annual Spring Plant Sale
END:VEVENT
END:VCALENDAR
