BEGIN:VCALENDAR
VERSION:2.0
PRODID:-//aldridgegardens.com//NONSGML kigkonsult.se iCalcreator 2.30.10//
CALSCALE:GREGORIAN
METHOD:PUBLISH
UID:2e74cc42-3510-45b7-bd96-89369d07a709
X-WR-CALDESC:The 2014 plant sale is bigger and better than ever!\n\nChoose 
 from more than 100 different plants including Alabama natives\, Alabama na
 tive azaleas\, hydrangeas\, butterfly bushes\, David Austin roses\, perenn
 ial bulbs\, rhizomes\, companion plants and more!\n\nThis year you'll find
  the star of our show\, Snowflake Hydrangea\, and for the first time we're
  also featuring Teasing Georgia Rose\, White Feathers Hosta\, Gatsby’s Sta
 r Hydrangea and Plumleaf Azalea. \n\n<a href='http://aldridgegardens.com/e
 ducation/events2013/annual_events/annual_plant_sale/plants_available.html'
 >List of 2014 plants for sale</a>\n<a href='http://aldridgegardens.com/edu
 cation/events2013/annual_events/annual_plant_sale/featured_plants.html'>Th
 is year's featured plants</a>\n<a href='http://aldridgegardens.com/educati
 on/events2013/annual_events/annual_plant_sale/care_maintenance.html'>Care 
 and maintenance class schedule</a>\n\n
X-WR-RELCALID:7890339b50ead69715f8785ab9ad92a6
X-WR-TIMEZONE:America/Chicago
BEGIN:VTIMEZONE
TZID:America/Chicago
BEGIN:STANDARD
TZNAME:CST
DTSTART:20131103T020000
TZOFFSETFROM:-0500
TZOFFSETTO:-0600
RDATE:20141102T020000
RDATE:20151101T020000
END:STANDARD
BEGIN:DAYLIGHT
TZNAME:CDT
DTSTART:20140309T020000
TZOFFSETFROM:-0600
TZOFFSETTO:-0500
RDATE:20150308T020000
END:DAYLIGHT
END:VTIMEZONE
BEGIN:VEVENT
UID:53773336-f5bd-4d59-b26c-20b21ed760f2
DTSTAMP:20260424T081109Z
DESCRIPTION:The 2014 plant sale is bigger and better than ever!\n\nChoose f
 rom more than 100 different plants including Alabama natives\, Alabama nat
 ive azaleas\, hydrangeas\, butterfly bushes\, David Austin roses\, perenni
 al bulbs\, rhizomes\, companion plants and more!\n\nThis year you'll find 
 the star of our show\, Snowflake Hydrangea\, and for the first time we're 
 also featuring Teasing Georgia Rose\, White Feathers Hosta\, Gatsby’s Star
  Hydrangea and Plumleaf Azalea. \n\n<a href='http://aldridgegardens.com/ed
 ucation/events2013/annual_events/annual_plant_sale/plants_available.html'>
 List of 2014 plants for sale</a>\n<a href='http://aldridgegardens.com/educ
 ation/events2013/annual_events/annual_plant_sale/featured_plants.html'>Thi
 s year's featured plants</a>\n<a href='http://aldridgegardens.com/educatio
 n/events2013/annual_events/annual_plant_sale/care_maintenance.html'>Care a
 nd maintenance class schedule</a>\n\n
DTSTART;TZID=America/Chicago:20140502T090000
DTEND;TZID=America/Chicago:20140502T170000
LOCATION:
SUMMARY:12th Annual Spring Plant Sale
END:VEVENT
END:VCALENDAR
