BEGIN:VCALENDAR
VERSION:2.0
PRODID:-//aldridgegardens.com//NONSGML kigkonsult.se iCalcreator 2.30.10//
CALSCALE:GREGORIAN
METHOD:PUBLISH
UID:3dc023fb-867b-4394-879f-4492b09fa32f
X-WR-CALDESC:Shoppers will find many varieties and sizes of hydrangeas at o
 ur 12th annual Spring Plant Sale! \n\nChoose from more than 100 different 
 plants including Alabama natives\, Alabama native azaleas\, hydrangeas\, b
 utterfly bushes\, David Austin roses\, perennial bulbs\, rhizomes\, compan
 ion plants and more!\n\nThis year you'll find the star of our show\, Snowf
 lake Hydrangea\, and for the first time we're also featuring Teasing Georg
 ia Rose\, White Feathers Hosta\, Gatsby’s Star Hydrangea and Plumleaf Azal
 ea. \n\n<a href='http://aldridgegardens.com/education/events2013/annual_ev
 ents/annual_plant_sale/plants_available.html'>List of 2014 plants for sale
 </a>\n<a href='http://aldridgegardens.com/education/events2013/annual_even
 ts/annual_plant_sale/featured_plants.html'>This year's featured plants</a>
 \n<a href='http://aldridgegardens.com/education/events2013/annual_events/a
 nnual_plant_sale/care_maintenance.html'>Care and maintenance class schedul
 e</a>\n\nRemember - members always get 10% off purchases!
X-WR-RELCALID:94e5e845149524d29c2b8dba9ae5c091
X-WR-TIMEZONE:America/Chicago
BEGIN:VTIMEZONE
TZID:America/Chicago
BEGIN:STANDARD
TZNAME:CST
DTSTART:20131103T020000
TZOFFSETFROM:-0500
TZOFFSETTO:-0600
RDATE:20141102T020000
RDATE:20151101T020000
END:STANDARD
BEGIN:DAYLIGHT
TZNAME:CDT
DTSTART:20140309T020000
TZOFFSETFROM:-0600
TZOFFSETTO:-0500
RDATE:20150308T020000
END:DAYLIGHT
END:VTIMEZONE
BEGIN:VEVENT
UID:0b09e01b-4a51-48e7-933e-051bd024a2c2
DTSTAMP:20260424T081752Z
DESCRIPTION:Shoppers will find many varieties and sizes of hydrangeas at ou
 r 12th annual Spring Plant Sale! \n\nChoose from more than 100 different p
 lants including Alabama natives\, Alabama native azaleas\, hydrangeas\, bu
 tterfly bushes\, David Austin roses\, perennial bulbs\, rhizomes\, compani
 on plants and more!\n\nThis year you'll find the star of our show\, Snowfl
 ake Hydrangea\, and for the first time we're also featuring Teasing Georgi
 a Rose\, White Feathers Hosta\, Gatsby’s Star Hydrangea and Plumleaf Azale
 a. \n\n<a href='http://aldridgegardens.com/education/events2013/annual_eve
 nts/annual_plant_sale/plants_available.html'>List of 2014 plants for sale<
 /a>\n<a href='http://aldridgegardens.com/education/events2013/annual_event
 s/annual_plant_sale/featured_plants.html'>This year's featured plants</a>
 \n<a href='http://aldridgegardens.com/education/events2013/annual_events/a
 nnual_plant_sale/care_maintenance.html'>Care and maintenance class schedul
 e</a>\n\nRemember - members always get 10% off purchases!
DTSTART;TZID=America/Chicago:20140503T080000
DTEND;TZID=America/Chicago:20140503T120000
LOCATION:
SUMMARY:12th Annual Spring Plant Sale
END:VEVENT
END:VCALENDAR
