BEGIN:VCALENDAR
VERSION:2.0
PRODID:-//aldridgegardens.com//NONSGML kigkonsult.se iCalcreator 2.30.10//
CALSCALE:GREGORIAN
METHOD:PUBLISH
UID:4ebaa480-56d1-4a9d-bdcf-bd068fc40ca9
X-WR-CALDESC:Saturday\, May 3\n9:30 to 11:00 a.m.\nInstructors:  Sallie Lee
 \, Extension Agent\, Member Jeff. Co and AL Beekeepers Association and Liz
  Alosi\,  Beekeeper and Member of Jefferson County\, Shelby County\, and A
 labama Beekeepers Association\n\nMake friends with bees by inviting them t
 o your yard. \n\nBees pollinate our food crops - we can't live without the
 m. But many bees and hives are in trouble and need our help. In this famil
 y nature program\, learn to greet bees\, be hospitable to them and other p
 ollinators by providing a place to eat\, drink\, and rest\, and keep them 
 coming back for more. \n\nThis Family Nature Program is intended for both 
 individuals and/or families to enjoy.\n\nMembers: \nChild $5\nAdult $10\nF
 amily maximum $20\n\nNon-members: \nChild $7\nAdult $13\nFamily maximum $2
 6\n\nTeachers:\nMember price with professional development hours.
X-WR-RELCALID:679475a1e3026006e7fcb03403a01590
X-WR-TIMEZONE:America/Chicago
BEGIN:VTIMEZONE
TZID:America/Chicago
BEGIN:STANDARD
TZNAME:CST
DTSTART:20131103T020000
TZOFFSETFROM:-0500
TZOFFSETTO:-0600
RDATE:20141102T020000
RDATE:20151101T020000
END:STANDARD
BEGIN:DAYLIGHT
TZNAME:CDT
DTSTART:20140309T020000
TZOFFSETFROM:-0600
TZOFFSETTO:-0500
RDATE:20150308T020000
END:DAYLIGHT
END:VTIMEZONE
BEGIN:VEVENT
UID:d85c7e83-1523-4bf8-a9ca-8f416ca8f63d
DTSTAMP:20260424T081109Z
DESCRIPTION:Saturday\, May 3\n9:30 to 11:00 a.m.\nInstructors:  Sallie Lee\
 , Extension Agent\, Member Jeff. Co and AL Beekeepers Association and Liz 
 Alosi\,  Beekeeper and Member of Jefferson County\, Shelby County\, and Al
 abama Beekeepers Association\n\nMake friends with bees by inviting them to
  your yard. \n\nBees pollinate our food crops - we can't live without them
 . But many bees and hives are in trouble and need our help. In this family
  nature program\, learn to greet bees\, be hospitable to them and other po
 llinators by providing a place to eat\, drink\, and rest\, and keep them c
 oming back for more. \n\nThis Family Nature Program is intended for both i
 ndividuals and/or families to enjoy.\n\nMembers: \nChild $5\nAdult $10\nFa
 mily maximum $20\n\nNon-members: \nChild $7\nAdult $13\nFamily maximum $26
 \n\nTeachers:\nMember price with professional development hours.
DTSTART;TZID=America/Chicago:20140503T093000
DTEND;TZID=America/Chicago:20140503T110000
LOCATION:
SUMMARY:Bee Friendly
END:VEVENT
END:VCALENDAR
