BEGIN:VCALENDAR
VERSION:2.0
PRODID:-//aldridgegardens.com//NONSGML kigkonsult.se iCalcreator 2.30.10//
CALSCALE:GREGORIAN
METHOD:PUBLISH
UID:5fa2bec6-55ca-4f85-9f49-0ff90e8b8509
X-WR-CALDESC:Led by Dr. Richard and Patricia Ryel\nSee the Gardens like you
  never have before. Enjoy a 2-hour guided walk and discover the birds of A
 ldridge Gardens as they migrate through our area. Bring binoculars so you 
 don't miss a thing!\nThis walk is free and for members only\, but is limit
 ed to 15 participants so we ask that you please pre-register. \n\n<i>Photo
  courtesy: Outdoor Alabama Magazine</i>
X-WR-RELCALID:9d75391d1b38419b689c8fedc2b1090f
X-WR-TIMEZONE:America/Chicago
BEGIN:VTIMEZONE
TZID:America/Chicago
BEGIN:STANDARD
TZNAME:CST
DTSTART:20131103T020000
TZOFFSETFROM:-0500
TZOFFSETTO:-0600
RDATE:20141102T020000
RDATE:20151101T020000
END:STANDARD
BEGIN:DAYLIGHT
TZNAME:CDT
DTSTART:20140309T020000
TZOFFSETFROM:-0600
TZOFFSETTO:-0500
RDATE:20150308T020000
END:DAYLIGHT
END:VTIMEZONE
BEGIN:VEVENT
UID:f41753ef-f008-4f84-b6d2-a811ef9772d4
DTSTAMP:20260424T080502Z
DESCRIPTION:Led by Dr. Richard and Patricia Ryel\nSee the Gardens like you 
 never have before. Enjoy a 2-hour guided walk and discover the birds of Al
 dridge Gardens as they migrate through our area. Bring binoculars so you d
 on't miss a thing!\nThis walk is free and for members only\, but is limite
 d to 15 participants so we ask that you please pre-register. \n\n<i>Photo 
 courtesy: Outdoor Alabama Magazine</i>
DTSTART;TZID=America/Chicago:20140517T080000
DTEND;TZID=America/Chicago:20140517T100000
LOCATION:Entrance Plaza
SUMMARY:Members Only Guided Bird Walk
END:VEVENT
END:VCALENDAR
