BEGIN:VCALENDAR
VERSION:2.0
PRODID:-//aldridgegardens.com//NONSGML kigkonsult.se iCalcreator 2.30.10//
CALSCALE:GREGORIAN
METHOD:PUBLISH
UID:e64e7206-c3d0-4a8a-93e7-5ad12105972c
X-WR-CALDESC:Astronauts at Aldridge\nCampers entering Kindergarten and 1st 
 grade\n\nBlast off from a different garden location each day and explore t
 he world of astronauts\, rockets\, other planets\, and the moon!  Search f
 or moon rocks\, make and launch small rockets\, enjoy Martian milkshakes a
 nd edible moon rocks\, play Saturn ring toss\, participate in anti-gravity
  experiments\, create aliens\, and much more! Join us for an out-of-this-w
 orld experience!\n\nInstructor:  Linda Cronican\, B.A. Elementary Educatio
 n\n
X-WR-RELCALID:e82e07f3fbb4459cc65a39b2a8b8561c
X-WR-TIMEZONE:America/Chicago
BEGIN:VTIMEZONE
TZID:America/Chicago
BEGIN:STANDARD
TZNAME:CST
DTSTART:20131103T020000
TZOFFSETFROM:-0500
TZOFFSETTO:-0600
RDATE:20141102T020000
RDATE:20151101T020000
END:STANDARD
BEGIN:DAYLIGHT
TZNAME:CDT
DTSTART:20140309T020000
TZOFFSETFROM:-0600
TZOFFSETTO:-0500
RDATE:20150308T020000
END:DAYLIGHT
END:VTIMEZONE
BEGIN:VEVENT
UID:e6cb32e5-87b8-46c9-a8f1-0048d85aebd1
DTSTAMP:20260424T064321Z
DESCRIPTION:Astronauts at Aldridge\nCampers entering Kindergarten and 1st g
 rade\n\nBlast off from a different garden location each day and explore th
 e world of astronauts\, rockets\, other planets\, and the moon!  Search fo
 r moon rocks\, make and launch small rockets\, enjoy Martian milkshakes an
 d edible moon rocks\, play Saturn ring toss\, participate in anti-gravity 
 experiments\, create aliens\, and much more! Join us for an out-of-this-wo
 rld experience!\n\nInstructor:  Linda Cronican\, B.A. Elementary Education
 \n
DTSTART;TZID=America/Chicago:20140602T090000
DTEND;TZID=America/Chicago:20140602T120000
LOCATION:
SUMMARY:Summer Camp: Astronauts
END:VEVENT
END:VCALENDAR
