BEGIN:VCALENDAR
VERSION:2.0
PRODID:-//aldridgegardens.com//NONSGML kigkonsult.se iCalcreator 2.30.10//
CALSCALE:GREGORIAN
METHOD:PUBLISH
UID:deb0d891-a668-418f-b57d-ea02488e0360
X-WR-CALDESC:World of Make-Believe:  Wizards and Fairies\nCampers entering 
 2nd and 3rd grades\n\nEnter a world of make-believe and excitement as we e
 ncounter fairies and wizards in the Gardens!  Campers will enjoy reenactin
 g the adventures of popular wizard characters.  While donning wizard hats\
 , capes\, and wands\, campers will experiment with scientific potions and 
 even create some magical goodies to taste.  Campers will create fairy hous
 es and wizard dwellings for the Gardens and uncloak secrets during scaveng
 er hunts throughout the week.  Don’t let this amazing opportunity vanish!
 \n\nInstructor:  Krista Fehler\, M.A. Early Childhood\, National Board Cer
 tified Teacher\n\n<i>Photo courtesy: lets-explore.net</i>
X-WR-RELCALID:a2be4249ab24ba1727d6882c2d61f1bf
X-WR-TIMEZONE:America/Chicago
BEGIN:VTIMEZONE
TZID:America/Chicago
BEGIN:STANDARD
TZNAME:CST
DTSTART:20131103T020000
TZOFFSETFROM:-0500
TZOFFSETTO:-0600
RDATE:20141102T020000
RDATE:20151101T020000
END:STANDARD
BEGIN:DAYLIGHT
TZNAME:CDT
DTSTART:20140309T020000
TZOFFSETFROM:-0600
TZOFFSETTO:-0500
RDATE:20150308T020000
END:DAYLIGHT
END:VTIMEZONE
BEGIN:VEVENT
UID:52bebe35-075a-4e78-9f8b-d6ac5983adb7
DTSTAMP:20260424T064444Z
DESCRIPTION:World of Make-Believe:  Wizards and Fairies\nCampers entering 2
 nd and 3rd grades\n\nEnter a world of make-believe and excitement as we en
 counter fairies and wizards in the Gardens!  Campers will enjoy reenacting
  the adventures of popular wizard characters.  While donning wizard hats\,
  capes\, and wands\, campers will experiment with scientific potions and e
 ven create some magical goodies to taste.  Campers will create fairy house
 s and wizard dwellings for the Gardens and uncloak secrets during scavenge
 r hunts throughout the week.  Don’t let this amazing opportunity vanish!\n
 \nInstructor:  Krista Fehler\, M.A. Early Childhood\, National Board Certi
 fied Teacher\n\n<i>Photo courtesy: lets-explore.net</i>
DTSTART;TZID=America/Chicago:20140602T090000
DTEND;TZID=America/Chicago:20140602T120000
LOCATION:
SUMMARY:Summer Camp: Make Believe
END:VEVENT
END:VCALENDAR
