BEGIN:VCALENDAR
VERSION:2.0
PRODID:-//aldridgegardens.com//NONSGML kigkonsult.se iCalcreator 2.30.10//
CALSCALE:GREGORIAN
METHOD:PUBLISH
UID:98c317b3-b0ea-445a-81c0-bb771ae61797
X-WR-CALDESC:Meet Birmingham native and artist Barry Graham.\n\nGraham disc
 overed his fascination with art\, architecture\, and graphic design at a v
 ery early age. His creativity was encouraged by mentor artist Rik Lazenby 
 with illustration\, painting\, mural and photographic assignments. Graham 
 attended Ringling College of Art and Design in Sarasota\, Florida\, where 
 his interest in painting was ignited by trips to Sarasota Beach\, the loca
 l Spanish architecture\, and the surrounding tropical landscape. Today he 
 dedicates his creativity in fine arts\, graphic design\, and illustration\
 , with much of his work reflecting the fine details and fascinations in na
 ture. \n\nGraham's work will be displayed in the gallery throughout June a
 nd July.
X-WR-RELCALID:2bc7d41e7416d377afeeb6d8697c7ff7
X-WR-TIMEZONE:America/Chicago
BEGIN:VTIMEZONE
TZID:America/Chicago
BEGIN:STANDARD
TZNAME:CST
DTSTART:20131103T020000
TZOFFSETFROM:-0500
TZOFFSETTO:-0600
RDATE:20141102T020000
RDATE:20151101T020000
END:STANDARD
BEGIN:DAYLIGHT
TZNAME:CDT
DTSTART:20140309T020000
TZOFFSETFROM:-0600
TZOFFSETTO:-0500
RDATE:20150308T020000
END:DAYLIGHT
END:VTIMEZONE
BEGIN:VEVENT
UID:b0605f20-db06-46b1-82da-14aeed0cc226
DTSTAMP:20260424T064608Z
DESCRIPTION:Meet Birmingham native and artist Barry Graham.\n\nGraham disco
 vered his fascination with art\, architecture\, and graphic design at a ve
 ry early age. His creativity was encouraged by mentor artist Rik Lazenby w
 ith illustration\, painting\, mural and photographic assignments. Graham a
 ttended Ringling College of Art and Design in Sarasota\, Florida\, where h
 is interest in painting was ignited by trips to Sarasota Beach\, the local
  Spanish architecture\, and the surrounding tropical landscape. Today he d
 edicates his creativity in fine arts\, graphic design\, and illustration\,
  with much of his work reflecting the fine details and fascinations in nat
 ure. \n\nGraham's work will be displayed in the gallery throughout June an
 d July.
DTSTART;TZID=America/Chicago:20140605T170000
DTEND;TZID=America/Chicago:20140605T190000
LOCATION:Eddie & Kay Aldridge Art & Historical Collections Museum
SUMMARY:Meet the Artist Reception: Barry Graham
END:VEVENT
END:VCALENDAR
