BEGIN:VCALENDAR
VERSION:2.0
PRODID:-//aldridgegardens.com//NONSGML kigkonsult.se iCalcreator 2.30.10//
CALSCALE:GREGORIAN
METHOD:PUBLISH
UID:1a641a12-37d7-4415-be80-826bb2f0190f
X-WR-CALDESC:American Girls in Aldridge Gardens\nCampers entering 2nd and 3
 rd grades  \n\nCampers will bring their American Girl for morning journeys
  throughout the Gardens.  Together with our dolls\, we will visit many dif
 ferent areas in the Gardens for daily arts\, crafts\, stories\, songs\, re
 cipes\, and nature projects inspired by the American Girls.\n\nInstructor:
  Krista Fehler\, M.A. Early Childhood\, National Board Certified Teacher\n
X-WR-RELCALID:45a258a54ee36d5cd11c60195a99910a
X-WR-TIMEZONE:America/Chicago
BEGIN:VTIMEZONE
TZID:America/Chicago
BEGIN:STANDARD
TZNAME:CST
DTSTART:20131103T020000
TZOFFSETFROM:-0500
TZOFFSETTO:-0600
RDATE:20141102T020000
RDATE:20151101T020000
END:STANDARD
BEGIN:DAYLIGHT
TZNAME:CDT
DTSTART:20140309T020000
TZOFFSETFROM:-0600
TZOFFSETTO:-0500
RDATE:20150308T020000
END:DAYLIGHT
END:VTIMEZONE
BEGIN:VEVENT
UID:99313815-41e8-437c-afda-6d52930b2782
DTSTAMP:20260424T064645Z
DESCRIPTION:American Girls in Aldridge Gardens\nCampers entering 2nd and 3r
 d grades  \n\nCampers will bring their American Girl for morning journeys 
 throughout the Gardens.  Together with our dolls\, we will visit many diff
 erent areas in the Gardens for daily arts\, crafts\, stories\, songs\, rec
 ipes\, and nature projects inspired by the American Girls.\n\nInstructor: 
 Krista Fehler\, M.A. Early Childhood\, National Board Certified Teacher\n
DTSTART;TZID=America/Chicago:20140609T090000
DTEND;TZID=America/Chicago:20140609T120000
LOCATION:
SUMMARY:Summer Camp: American Girls 2nd-3rd
END:VEVENT
END:VCALENDAR
