BEGIN:VCALENDAR
VERSION:2.0
PRODID:-//aldridgegardens.com//NONSGML kigkonsult.se iCalcreator 2.30.10//
CALSCALE:GREGORIAN
METHOD:PUBLISH
UID:cf201993-317f-4d1d-988d-cb2b3b75368b
X-WR-CALDESC:THIS CAMP IS FULL. TO GET YOUR LITTLE CAMPER ON THE WAITING LI
 ST\, PLEASE CALL AUDREY ANN WILSON AT 205.370.5909. THANK YOU!\n\nAmerican
  Girls in Aldridge Gardens\nCampers entering Kindergarten and 1st grade\n 
 \nCampers will bring their American Girl for morning journeys throughout t
 he Gardens.  Together with our dolls\, we will visit many different areas 
 in the Gardens for daily arts\, crafts\, stories\, songs\, recipes and nat
 ure projects inspired by the American Girls.\n\nInstructor:  Kim Killgore\
 , B.S. Elementary Education\n
X-WR-RELCALID:28e60ecfc6c1c0c92cacd3fd092fd9e3
X-WR-TIMEZONE:America/Chicago
BEGIN:VTIMEZONE
TZID:America/Chicago
BEGIN:STANDARD
TZNAME:CST
DTSTART:20131103T020000
TZOFFSETFROM:-0500
TZOFFSETTO:-0600
RDATE:20141102T020000
RDATE:20151101T020000
END:STANDARD
BEGIN:DAYLIGHT
TZNAME:CDT
DTSTART:20140309T020000
TZOFFSETFROM:-0600
TZOFFSETTO:-0500
RDATE:20150308T020000
END:DAYLIGHT
END:VTIMEZONE
BEGIN:VEVENT
UID:c6571132-5204-4996-aa7b-d91a1e259150
DTSTAMP:20260424T064808Z
DESCRIPTION:THIS CAMP IS FULL. TO GET YOUR LITTLE CAMPER ON THE WAITING LIS
 T\, PLEASE CALL AUDREY ANN WILSON AT 205.370.5909. THANK YOU!\n\nAmerican 
 Girls in Aldridge Gardens\nCampers entering Kindergarten and 1st grade\n 
 \nCampers will bring their American Girl for morning journeys throughout t
 he Gardens.  Together with our dolls\, we will visit many different areas 
 in the Gardens for daily arts\, crafts\, stories\, songs\, recipes and nat
 ure projects inspired by the American Girls.\n\nInstructor:  Kim Killgore\
 , B.S. Elementary Education\n
DTSTART;TZID=America/Chicago:20140609T090000
DTEND;TZID=America/Chicago:20140609T120000
LOCATION:
SUMMARY:Summer Camp: American Girls K-1st
END:VEVENT
END:VCALENDAR
