BEGIN:VCALENDAR
VERSION:2.0
PRODID:-//aldridgegardens.com//NONSGML kigkonsult.se iCalcreator 2.30.10//
CALSCALE:GREGORIAN
METHOD:PUBLISH
UID:c65af687-dc29-4508-a6b7-b50853807aff
X-WR-CALDESC:Join us for this season's premier garden gala with honorary ho
 st and hostess Hoover Mayor Gary Ivey and Mrs. Carolyn Ivey. \n\nEnjoy a s
 pecial evening of great food\, entertainment and live auction\, all to ben
 efit Aldridge Gardens.\n\nCocktail reception begins at 6:00 p.m.\nDinner &
  live auction 7:30 to 9:00 p.m.\n\nAuction items include a voyage for two 
 down the Amazon River\, an original Nall painting\, original sculptures by
  Frank Fleming and Robert Taylor and much more!\n\nPlease note that thanks
  to the use of a nice\, floored\, elegant tent\, Hydrangeas Under the Star
 s is rain or shine.\n\n<i>Thank you to our presenting sponsors for support
  of Hydrangeas Under the Stars:\nBlue Cross and Blue Shield of Alabama \nP
 rimerica\nInternational Expeditions\nHoover Tactical Firearms</i>  \n\n<i>
 <b>Table Sponsor</b>\n$2000\nOne reserved table for eight guests\nLogo pla
 cement on table\nRecognition in official program and at event\nOne engrave
 d company paver on the Walk of Life entrance plaza\n</i>\nTables and indiv
 idual tickets can be purchased through the link below\, at Aldridge Garden
 s\, or at the Iberia Bank branch located at 2765 John Hawkins Parkway\, Ho
 over AL 35244. Cash and checks will only be accepted at the bank. Please c
 ontact Beverly Meadors for more on buying at Iberia Bank at Beverly.meador
 s@iberiabank.com or   \n205.803.5949. \n\nFor more information on Hydrange
 as Under the Stars or to become a sponsor\, contact Tynette Lynch at tlync
 h@aldridgegardens.com or 205.682.8019\, ext. 7.\n\n
X-WR-RELCALID:3aedf045ee86604659f3b770fe41b775
X-WR-TIMEZONE:America/Chicago
BEGIN:VTIMEZONE
TZID:America/Chicago
BEGIN:STANDARD
TZNAME:CST
DTSTART:20131103T020000
TZOFFSETFROM:-0500
TZOFFSETTO:-0600
RDATE:20141102T020000
RDATE:20151101T020000
END:STANDARD
BEGIN:DAYLIGHT
TZNAME:CDT
DTSTART:20140309T020000
TZOFFSETFROM:-0600
TZOFFSETTO:-0500
RDATE:20150308T020000
END:DAYLIGHT
END:VTIMEZONE
BEGIN:VEVENT
UID:2968dcb0-863d-4754-9070-39eb0e48ac62
DTSTAMP:20260424T064321Z
DESCRIPTION:Join us for this season's premier garden gala with honorary hos
 t and hostess Hoover Mayor Gary Ivey and Mrs. Carolyn Ivey. \n\nEnjoy a sp
 ecial evening of great food\, entertainment and live auction\, all to bene
 fit Aldridge Gardens.\n\nCocktail reception begins at 6:00 p.m.\nDinner & 
 live auction 7:30 to 9:00 p.m.\n\nAuction items include a voyage for two d
 own the Amazon River\, an original Nall painting\, original sculptures by 
 Frank Fleming and Robert Taylor and much more!\n\nPlease note that thanks 
 to the use of a nice\, floored\, elegant tent\, Hydrangeas Under the Stars
  is rain or shine.\n\n<i>Thank you to our presenting sponsors for support 
 of Hydrangeas Under the Stars:\nBlue Cross and Blue Shield of Alabama \nPr
 imerica\nInternational Expeditions\nHoover Tactical Firearms</i>  \n\n<i><
 b>Table Sponsor</b>\n$2000\nOne reserved table for eight guests\nLogo plac
 ement on table\nRecognition in official program and at event\nOne engraved
  company paver on the Walk of Life entrance plaza\n</i>\nTables and indivi
 dual tickets can be purchased through the link below\, at Aldridge Gardens
 \, or at the Iberia Bank branch located at 2765 John Hawkins Parkway\, Hoo
 ver AL 35244. Cash and checks will only be accepted at the bank. Please co
 ntact Beverly Meadors for more on buying at Iberia Bank at Beverly.meadors
 @iberiabank.com or   \n205.803.5949. \n\nFor more information on Hydrangea
 s Under the Stars or to become a sponsor\, contact Tynette Lynch at tlynch
 @aldridgegardens.com or 205.682.8019\, ext. 7.\n\n
DTSTART;TZID=America/Chicago:20140613T180000
DTEND;TZID=America/Chicago:20140613T210000
LOCATION:
SUMMARY:Hydrangeas Under the Stars
END:VEVENT
END:VCALENDAR
