BEGIN:VCALENDAR
VERSION:2.0
PRODID:-//aldridgegardens.com//NONSGML kigkonsult.se iCalcreator 2.30.10//
CALSCALE:GREGORIAN
METHOD:PUBLISH
UID:0420876b-98f8-41ce-a153-9fcbe62b783b
X-WR-CALDESC:American Girls\nCampers entering Kindergarten and 1st grade\n
 \nCampers will bring their American Girl for morning journeys throughout t
 he Gardens. Together with our dolls\, we will visit many different areas i
 n the Gardens for daily arts\, crafts\, stories\, songs\, recipes\, and na
 ture projects inspired by the American Girls.\n\nInstructor: Morgan Barrow
 \, B.S. Early Childhood Education\n
X-WR-RELCALID:bf4f5efe7f5a596542cadf945b131914
X-WR-TIMEZONE:America/Chicago
BEGIN:VTIMEZONE
TZID:America/Chicago
BEGIN:STANDARD
TZNAME:CST
DTSTART:20131103T020000
TZOFFSETFROM:-0500
TZOFFSETTO:-0600
RDATE:20141102T020000
RDATE:20151101T020000
END:STANDARD
BEGIN:DAYLIGHT
TZNAME:CDT
DTSTART:20140309T020000
TZOFFSETFROM:-0600
TZOFFSETTO:-0500
RDATE:20150308T020000
END:DAYLIGHT
END:VTIMEZONE
BEGIN:VEVENT
UID:52d68223-5a42-4ede-86b5-840d1cf9ec10
DTSTAMP:20260424T064808Z
DESCRIPTION:American Girls\nCampers entering Kindergarten and 1st grade\n\n
 Campers will bring their American Girl for morning journeys throughout the
  Gardens. Together with our dolls\, we will visit many different areas in 
 the Gardens for daily arts\, crafts\, stories\, songs\, recipes\, and natu
 re projects inspired by the American Girls.\n\nInstructor: Morgan Barrow\,
  B.S. Early Childhood Education\n
DTSTART;TZID=America/Chicago:20140616T090000
DTEND;TZID=America/Chicago:20140616T120000
LOCATION:
SUMMARY:Summer Camp: American Girls K-1st
END:VEVENT
END:VCALENDAR
