BEGIN:VCALENDAR
VERSION:2.0
PRODID:-//aldridgegardens.com//NONSGML kigkonsult.se iCalcreator 2.30.10//
CALSCALE:GREGORIAN
METHOD:PUBLISH
UID:f71ffe06-ec23-4006-aa76-16fba09823b5
X-WR-CALDESC:Nature Sleuths\nCampers entering 2nd and 3rd grades\n\nCalling
  all private investigators!  \nUse your sleuthing skills to gather clues a
 nd solve daily mysteries to learn about the various plants located in the 
 Gardens. Learn through nature walks\, crafts and scavenger hunts. Hands-on
  activities include finding the Gardens’ carnivorous Pitcher Plants\, taki
 ng home a Venus Fly Trap\, planting your own container\, doing the “Fern S
 mash” and so much more!\n\nInstructor:  Reauchean Barnes\, B.S. Early Chil
 dhood and Elementary Education\n
X-WR-RELCALID:7ec35fdd5bbae6d34044f0e73aa73ba4
X-WR-TIMEZONE:America/Chicago
BEGIN:VTIMEZONE
TZID:America/Chicago
BEGIN:STANDARD
TZNAME:CST
DTSTART:20131103T020000
TZOFFSETFROM:-0500
TZOFFSETTO:-0600
RDATE:20141102T020000
RDATE:20151101T020000
END:STANDARD
BEGIN:DAYLIGHT
TZNAME:CDT
DTSTART:20140309T020000
TZOFFSETFROM:-0600
TZOFFSETTO:-0500
RDATE:20150308T020000
END:DAYLIGHT
END:VTIMEZONE
BEGIN:VEVENT
UID:6c9cd298-deb9-4da2-aa10-6980513f53c5
DTSTAMP:20260424T064444Z
DESCRIPTION:Nature Sleuths\nCampers entering 2nd and 3rd grades\n\nCalling 
 all private investigators!  \nUse your sleuthing skills to gather clues an
 d solve daily mysteries to learn about the various plants located in the G
 ardens. Learn through nature walks\, crafts and scavenger hunts. Hands-on 
 activities include finding the Gardens’ carnivorous Pitcher Plants\, takin
 g home a Venus Fly Trap\, planting your own container\, doing the “Fern Sm
 ash” and so much more!\n\nInstructor:  Reauchean Barnes\, B.S. Early Child
 hood and Elementary Education\n
DTSTART;TZID=America/Chicago:20140616T090000
DTEND;TZID=America/Chicago:20140616T120000
LOCATION:
SUMMARY:Summer Camp: Nature Sleuths
END:VEVENT
END:VCALENDAR
