BEGIN:VCALENDAR
VERSION:2.0
PRODID:-//aldridgegardens.com//NONSGML kigkonsult.se iCalcreator 2.30.10//
CALSCALE:GREGORIAN
METHOD:PUBLISH
UID:c42828e1-610b-485d-8c55-2cb72f3756a1
X-WR-CALDESC:Tales and Treasures\nCampers entering Kindergarten and 1st gra
 de\n\nBegin each morning exploring a part of the Gardens.  Relax and enjoy
  stories of adventure by Chris van Allsburg including <i>The Garden of Abd
 ul Gasazi</i>\, <i>Just a Dream</i>\, and <i>The Wretched Stone</i>. Follo
 w the clues through the Gardens to find story-related treasures and a repl
 ica of Fritz\, the English bull terrier in each of van Allsburg's books. C
 reate robots\, make fun crafts\, play games\, plant trees and make memorie
 s with old and new friends!\n\nInstructor: Linda Cronican\, B.A. Elementar
 y Education\n
X-WR-RELCALID:c5a98e13029de0e53fa246de6326d675
X-WR-TIMEZONE:America/Chicago
BEGIN:VTIMEZONE
TZID:America/Chicago
BEGIN:STANDARD
TZNAME:CST
DTSTART:20131103T020000
TZOFFSETFROM:-0500
TZOFFSETTO:-0600
RDATE:20141102T020000
RDATE:20151101T020000
END:STANDARD
BEGIN:DAYLIGHT
TZNAME:CDT
DTSTART:20140309T020000
TZOFFSETFROM:-0600
TZOFFSETTO:-0500
RDATE:20150308T020000
END:DAYLIGHT
END:VTIMEZONE
BEGIN:VEVENT
UID:9cb28a09-59b0-4aa2-a2a4-f0a2dc435973
DTSTAMP:20260424T064553Z
DESCRIPTION:Tales and Treasures\nCampers entering Kindergarten and 1st grad
 e\n\nBegin each morning exploring a part of the Gardens.  Relax and enjoy 
 stories of adventure by Chris van Allsburg including <i>The Garden of Abdu
 l Gasazi</i>\, <i>Just a Dream</i>\, and <i>The Wretched Stone</i>. Follow
  the clues through the Gardens to find story-related treasures and a repli
 ca of Fritz\, the English bull terrier in each of van Allsburg's books. Cr
 eate robots\, make fun crafts\, play games\, plant trees and make memories
  with old and new friends!\n\nInstructor: Linda Cronican\, B.A. Elementary
  Education\n
DTSTART;TZID=America/Chicago:20140616T090000
DTEND;TZID=America/Chicago:20140616T120000
LOCATION:
SUMMARY:Summer Camp: Tales and Treasures
END:VEVENT
END:VCALENDAR
