BEGIN:VCALENDAR
VERSION:2.0
PRODID:-//aldridgegardens.com//NONSGML kigkonsult.se iCalcreator 2.30.10//
CALSCALE:GREGORIAN
METHOD:PUBLISH
UID:468516c9-c231-4d84-a909-25f99490e5c3
X-WR-CALDESC:Stroll through the Gardens and see the works of some of the be
 st artists in the country\, and\, of course\, shop! More than 50 artisans 
 will compete for category and best of show awards in this juried open-air 
 show that features only Alabama artists. This year expect to see returning
  favorites like jewelry artist Julie Jackson and sculptor Cindy Cail. Also
  look for many fresh faces in painting\, mixed media\, jewelry\, woodworki
 ng and more. \n\n<i>Your $5 per person entry fee supports the arts at Aldr
 idge Gardens - visitors younger than 16 get in free. \n\nOff-site parking 
 with shuttles will be available at the Bed Bath & Beyond / HH Gregg Lot on
  Lorna Road\n\nD'Armond Catering's food truck will be onsite from 9:00 a.m
 . to 2:00 p.m. Saturday and 9:00 a.m. to 4:00 p.m. Sunday</i>\n\n\nHere's 
 a look at this year's participating artists:\n\n<i>Sondi Barton\nBeverly B
 ates\nJoyce C. Byrd\nCindy Cail\nSteve & Mechele Carter\nMaurice Cook\nAly
 ssa A. Crisswell\nBecky Bolton Crisswell\nTroy Crisswell\nDaniel Curry\nMi
 chael Davis\nBart Ehmann\nJoseph Frye\nLincoln Gaborik\nLourie Givens\nJan
  Grant\nMichael Hulsey\nJulie Jackson\nLaura & Bryan Jordan\nRonald Lewis
 \nKarin Mack\nHazel Marlar\nRoyal Miree\nMichael Mixon\nRon Morris\nRollin
 a Oglesbay\nButch and Joy Oglesbay \nJack Pair\nJenny Patterson \nBill Pay
 ton \nMary H. Reed \nDebra E. Riffe \nEllen Rodgers \nJoAnna Sanders \nBen
  A. Smith\nDeborah Smith\nSteve and Sally Smith \nKennen Spivey \nAnthony 
 Tavis \nGyl Turner \nChelley Walker \nSandra Walters \nRobine Wright</i>\n
 \n\n
X-WR-RELCALID:7e6f68beb90bc9b23ad2490e0dd03f4a
X-WR-TIMEZONE:America/Chicago
BEGIN:VTIMEZONE
TZID:America/Chicago
BEGIN:STANDARD
TZNAME:CST
DTSTART:20131103T020000
TZOFFSETFROM:-0500
TZOFFSETTO:-0600
RDATE:20141102T020000
RDATE:20151101T020000
END:STANDARD
BEGIN:DAYLIGHT
TZNAME:CDT
DTSTART:20140309T020000
TZOFFSETFROM:-0600
TZOFFSETTO:-0500
RDATE:20150308T020000
END:DAYLIGHT
END:VTIMEZONE
BEGIN:VEVENT
UID:1d432632-72aa-4819-8a3c-a4d763c4986f
DTSTAMP:20260424T064839Z
DESCRIPTION:Stroll through the Gardens and see the works of some of the bes
 t artists in the country\, and\, of course\, shop! More than 50 artisans w
 ill compete for category and best of show awards in this juried open-air s
 how that features only Alabama artists. This year expect to see returning 
 favorites like jewelry artist Julie Jackson and sculptor Cindy Cail. Also 
 look for many fresh faces in painting\, mixed media\, jewelry\, woodworkin
 g and more. \n\n<i>Your $5 per person entry fee supports the arts at Aldri
 dge Gardens - visitors younger than 16 get in free. \n\nOff-site parking w
 ith shuttles will be available at the Bed Bath & Beyond / HH Gregg Lot on 
 Lorna Road\n\nD'Armond Catering's food truck will be onsite from 9:00 a.m.
  to 2:00 p.m. Saturday and 9:00 a.m. to 4:00 p.m. Sunday</i>\n\n\nHere's a
  look at this year's participating artists:\n\n<i>Sondi Barton\nBeverly Ba
 tes\nJoyce C. Byrd\nCindy Cail\nSteve & Mechele Carter\nMaurice Cook\nAlys
 sa A. Crisswell\nBecky Bolton Crisswell\nTroy Crisswell\nDaniel Curry\nMic
 hael Davis\nBart Ehmann\nJoseph Frye\nLincoln Gaborik\nLourie Givens\nJan 
 Grant\nMichael Hulsey\nJulie Jackson\nLaura & Bryan Jordan\nRonald Lewis\n
 Karin Mack\nHazel Marlar\nRoyal Miree\nMichael Mixon\nRon Morris\nRollina 
 Oglesbay\nButch and Joy Oglesbay \nJack Pair\nJenny Patterson \nBill Payto
 n \nMary H. Reed \nDebra E. Riffe \nEllen Rodgers \nJoAnna Sanders \nBen A
 . Smith\nDeborah Smith\nSteve and Sally Smith \nKennen Spivey \nAnthony Ta
 vis \nGyl Turner \nChelley Walker \nSandra Walters \nRobine Wright</i>\n\n
 \n
DTSTART;TZID=America/Chicago:20140621T090000
DTEND;TZID=America/Chicago:20140621T170000
LOCATION:
SUMMARY:12th Annual Art in the Gardens
END:VEVENT
END:VCALENDAR
