BEGIN:VCALENDAR
VERSION:2.0
PRODID:-//aldridgegardens.com//NONSGML kigkonsult.se iCalcreator 2.30.10//
CALSCALE:GREGORIAN
METHOD:PUBLISH
UID:a9981801-5826-45b6-bb79-ebb7aa66264f
X-WR-CALDESC:THIS CAMP IS FULL. TO GET YOUR LITTLE CAMPER ON THE WAITING LI
 ST\, PLEASE CALL AUDREY ANN WILSON AT 205.370.5909. THANK YOU!\n\nCampers 
 will bring their American Girl for morning journeys throughout the Gardens
 .  Together with our dolls\, we will visit many different areas in the Gar
 dens for daily arts\, crafts\, stories\, songs\, recipes and nature projec
 ts inspired by the American Girls.\n\nInstructor:  Krista Fehler\, M.A. Ea
 rly Childhood\, National Board Certified Teacher\n
X-WR-RELCALID:98a456edc9f705f1d2fac90d77e7b717
X-WR-TIMEZONE:America/Chicago
BEGIN:VTIMEZONE
TZID:America/Chicago
BEGIN:STANDARD
TZNAME:CST
DTSTART:20131103T020000
TZOFFSETFROM:-0500
TZOFFSETTO:-0600
RDATE:20141102T020000
RDATE:20151101T020000
END:STANDARD
BEGIN:DAYLIGHT
TZNAME:CDT
DTSTART:20140309T020000
TZOFFSETFROM:-0600
TZOFFSETTO:-0500
RDATE:20150308T020000
END:DAYLIGHT
END:VTIMEZONE
BEGIN:VEVENT
UID:ba066829-4216-4023-972d-6706c528edb4
DTSTAMP:20260424T064645Z
DESCRIPTION:THIS CAMP IS FULL. TO GET YOUR LITTLE CAMPER ON THE WAITING LIS
 T\, PLEASE CALL AUDREY ANN WILSON AT 205.370.5909. THANK YOU!\n\nCampers w
 ill bring their American Girl for morning journeys throughout the Gardens.
   Together with our dolls\, we will visit many different areas in the Gard
 ens for daily arts\, crafts\, stories\, songs\, recipes and nature project
 s inspired by the American Girls.\n\nInstructor:  Krista Fehler\, M.A. Ear
 ly Childhood\, National Board Certified Teacher\n
DTSTART;TZID=America/Chicago:20140623T090000
DTEND;TZID=America/Chicago:20140623T120000
LOCATION:
SUMMARY:Summer Camp: American Girls 2nd-3rd
END:VEVENT
END:VCALENDAR
