BEGIN:VCALENDAR
VERSION:2.0
PRODID:-//aldridgegardens.com//NONSGML kigkonsult.se iCalcreator 2.30.10//
CALSCALE:GREGORIAN
METHOD:PUBLISH
UID:c411d61e-d1b9-4c0b-8fc8-be32e91ab7a3
X-WR-CALDESC:Critter Detectives\nCampers entering Kindergarten and 1st grad
 e\n\nDo your favorite books and TV shows involve detectives? This is the c
 amp for YOU!\n\nJoin us for this fun and exciting week of camp and bring a
 long your power of observation. We will use the clues that critters leave 
 behind to determine what animals (such as blue herons\, ducks\, Canada Gee
 se\, frogs\, turtles\, and butterflies) make the Gardens their home. Learn
  to discover through hands-on activities\, nature walks\, and stories.\n\n
 Instructor:  Reauchean Barnes\, B.S. Early Childhood and Elementary Educat
 ion\n\n<i>Photo courtesy: prattcenter.org</i>\n
X-WR-RELCALID:19a33ff8ed6bf6fa6aa7e7903aa459f0
X-WR-TIMEZONE:America/Chicago
BEGIN:VTIMEZONE
TZID:America/Chicago
BEGIN:STANDARD
TZNAME:CST
DTSTART:20131103T020000
TZOFFSETFROM:-0500
TZOFFSETTO:-0600
RDATE:20141102T020000
RDATE:20151101T020000
END:STANDARD
BEGIN:DAYLIGHT
TZNAME:CDT
DTSTART:20140309T020000
TZOFFSETFROM:-0600
TZOFFSETTO:-0500
RDATE:20150308T020000
END:DAYLIGHT
END:VTIMEZONE
BEGIN:VEVENT
UID:6d1ad3d3-dc8c-4368-a5df-a603814546bc
DTSTAMP:20260424T064451Z
DESCRIPTION:Critter Detectives\nCampers entering Kindergarten and 1st grade
 \n\nDo your favorite books and TV shows involve detectives? This is the ca
 mp for YOU!\n\nJoin us for this fun and exciting week of camp and bring al
 ong your power of observation. We will use the clues that critters leave b
 ehind to determine what animals (such as blue herons\, ducks\, Canada Gees
 e\, frogs\, turtles\, and butterflies) make the Gardens their home. Learn 
 to discover through hands-on activities\, nature walks\, and stories.\n\nI
 nstructor:  Reauchean Barnes\, B.S. Early Childhood and Elementary Educati
 on\n\n<i>Photo courtesy: prattcenter.org</i>\n
DTSTART;TZID=America/Chicago:20140623T090000
DTEND;TZID=America/Chicago:20140623T120000
LOCATION:
SUMMARY:Summer Camp: Critter Detectives
END:VEVENT
END:VCALENDAR
