BEGIN:VCALENDAR
VERSION:2.0
PRODID:-//aldridgegardens.com//NONSGML kigkonsult.se iCalcreator 2.30.10//
CALSCALE:GREGORIAN
METHOD:PUBLISH
UID:7fdd7b01-9ce1-4d62-a04f-6354b1221572
X-WR-CALDESC:Nature and Art\nCampers entering 2nd and 3rd grades\n\nExplore
  all the ways nature creates its own art.  Children will paint\, sculpt\, 
 draw\, and create using lines formations and textures found in nature. You
 ng master artists will be introduced to famous artists who used nature as 
 inspiration.\n\nInstructor:  Morgan Barrow\, B.S. Early Childhood Educatio
 n\n
X-WR-RELCALID:50db124f65d6eabb3ef53ac20ab39a29
X-WR-TIMEZONE:America/Chicago
BEGIN:VTIMEZONE
TZID:America/Chicago
BEGIN:STANDARD
TZNAME:CST
DTSTART:20131103T020000
TZOFFSETFROM:-0500
TZOFFSETTO:-0600
RDATE:20141102T020000
RDATE:20151101T020000
END:STANDARD
BEGIN:DAYLIGHT
TZNAME:CDT
DTSTART:20140309T020000
TZOFFSETFROM:-0600
TZOFFSETTO:-0500
RDATE:20150308T020000
END:DAYLIGHT
END:VTIMEZONE
BEGIN:VEVENT
UID:2d8cd098-f831-4036-b09c-73e0491fe23e
DTSTAMP:20260424T064554Z
DESCRIPTION:Nature and Art\nCampers entering 2nd and 3rd grades\n\nExplore 
 all the ways nature creates its own art.  Children will paint\, sculpt\, d
 raw\, and create using lines formations and textures found in nature. Youn
 g master artists will be introduced to famous artists who used nature as i
 nspiration.\n\nInstructor:  Morgan Barrow\, B.S. Early Childhood Education
 \n
DTSTART;TZID=America/Chicago:20140623T090000
DTEND;TZID=America/Chicago:20140623T120000
LOCATION:
SUMMARY:Summer Camp: Nature and Art
END:VEVENT
END:VCALENDAR
