BEGIN:VCALENDAR
VERSION:2.0
PRODID:-//aldridgegardens.com//NONSGML kigkonsult.se iCalcreator 2.30.10//
CALSCALE:GREGORIAN
METHOD:PUBLISH
UID:6b6c4b2a-ab0b-4705-a6f7-35d8485517eb
X-WR-CALDESC:The 2014 Summer Concert Series kicks off with Earl Williams & 
 The Juke Band and Gip Gipson live in the Gardens!\n\n'Mr. Gip' Gipson has 
 been wowing crowds with backyard blues parties since 1952. Earl 'Guitar' W
 illiams is widely known for the electrifying sounds he creates with his gu
 itar and harmonica. This summer\, we're thrilled to have them jamming with
  us again! \n\nBring a picnic dinner\, refreshments\, blankets and chairs\
 , and experience these Alabama Blues legends\, live under the stars!\n\n$1
 5 members\n$20 non-members\n\n<i>Gates open at 5:00. Please note this even
 t is rain or shine. No refunds.</i>\n
X-WR-RELCALID:864cf71507af8b201574bd5722ed7139
X-WR-TIMEZONE:America/Chicago
BEGIN:VTIMEZONE
TZID:America/Chicago
BEGIN:STANDARD
TZNAME:CST
DTSTART:20131103T020000
TZOFFSETFROM:-0500
TZOFFSETTO:-0600
RDATE:20141102T020000
RDATE:20151101T020000
END:STANDARD
BEGIN:DAYLIGHT
TZNAME:CDT
DTSTART:20140309T020000
TZOFFSETFROM:-0600
TZOFFSETTO:-0500
RDATE:20150308T020000
END:DAYLIGHT
END:VTIMEZONE
BEGIN:VEVENT
UID:8620b594-1094-4c45-a12b-0041989aed62
DTSTAMP:20260424T064900Z
DESCRIPTION:The 2014 Summer Concert Series kicks off with Earl Williams & T
 he Juke Band and Gip Gipson live in the Gardens!\n\n'Mr. Gip' Gipson has b
 een wowing crowds with backyard blues parties since 1952. Earl 'Guitar' Wi
 lliams is widely known for the electrifying sounds he creates with his gui
 tar and harmonica. This summer\, we're thrilled to have them jamming with 
 us again! \n\nBring a picnic dinner\, refreshments\, blankets and chairs\,
  and experience these Alabama Blues legends\, live under the stars!\n\n$15
  members\n$20 non-members\n\n<i>Gates open at 5:00. Please note this event
  is rain or shine. No refunds.</i>\n
DTSTART;TZID=America/Chicago:20140626T190000
DTEND;TZID=America/Chicago:20140626T210000
LOCATION:
SUMMARY:Summer Concert Series: Earl “Guitar” Williams & the Juke Band with 
 Mr. Gip Gipson
END:VEVENT
END:VCALENDAR
