BEGIN:VCALENDAR
VERSION:2.0
PRODID:-//aldridgegardens.com//NONSGML kigkonsult.se iCalcreator 2.30.10//
CALSCALE:GREGORIAN
METHOD:PUBLISH
UID:4490ddb5-a036-458f-8019-c78a2c26466d
X-WR-CALDESC:You already come to the Gardens to walk - why not join us to w
 orkout? This summer we're partnering with Hoover Fitness to blast fat! \n
 \nJoin Jason Cerniglia\, owner of Hoover Fitness\, author and personal tra
 iner\, for his 21 Day Fat Blast training program. It's one of the most pop
 ular workout programs in our area\, and it will be offered Mondays\, Wedne
 sdays and Fridays at 5:45 a.m. starting July 7.\n\nFor more information on
  the class\, the cost\, or to enroll\, email Jason at info@hooverfitness.c
 om. To see photos and results from the program\, visit hooverfitness.com. 
 \n\nAnd\, while you do something great for your body\, you'll also be supp
 orting the Gardens. A portion of the cost will be donated to Aldridge Gard
 ens.
X-WR-RELCALID:bb232d6dbad895363d580bf6db6ba952
X-WR-TIMEZONE:America/Chicago
BEGIN:VTIMEZONE
TZID:America/Chicago
BEGIN:STANDARD
TZNAME:CST
DTSTART:20131103T020000
TZOFFSETFROM:-0500
TZOFFSETTO:-0600
RDATE:20141102T020000
RDATE:20151101T020000
END:STANDARD
BEGIN:DAYLIGHT
TZNAME:CDT
DTSTART:20140309T020000
TZOFFSETFROM:-0600
TZOFFSETTO:-0500
RDATE:20150308T020000
END:DAYLIGHT
END:VTIMEZONE
BEGIN:VEVENT
UID:1834d56a-3610-45d8-ab4d-d58a077840b8
DTSTAMP:20260424T052624Z
DESCRIPTION:You already come to the Gardens to walk - why not join us to wo
 rkout? This summer we're partnering with Hoover Fitness to blast fat! \n\n
 Join Jason Cerniglia\, owner of Hoover Fitness\, author and personal train
 er\, for his 21 Day Fat Blast training program. It's one of the most popul
 ar workout programs in our area\, and it will be offered Mondays\, Wednesd
 ays and Fridays at 5:45 a.m. starting July 7.\n\nFor more information on t
 he class\, the cost\, or to enroll\, email Jason at info@hooverfitness.com
 . To see photos and results from the program\, visit hooverfitness.com. \n
 \nAnd\, while you do something great for your body\, you'll also be suppor
 ting the Gardens. A portion of the cost will be donated to Aldridge Garden
 s.
DTSTART;TZID=America/Chicago:20140716T054500
DTEND;TZID=America/Chicago:20140716T064500
LOCATION:Under the pavilion
SUMMARY:21 Day Fat Blast with Jason Cerniglia
END:VEVENT
END:VCALENDAR
