BEGIN:VCALENDAR
VERSION:2.0
PRODID:-//aldridgegardens.com//NONSGML kigkonsult.se iCalcreator 2.30.10//
CALSCALE:GREGORIAN
METHOD:PUBLISH
UID:b1fd1919-738f-41ce-b30a-a8ff5d4e2872
X-WR-CALDESC:Don't miss the second terrific event in our 2014 Summer Concer
 t Series!\n\nBo Berry and Tommy Stewart's 'Lou Rawls Review' will live und
 er the stars on Thursday\, July 24!\n\nWith accompaniment provided by an u
 pbeat big band\, the evening will include many songs from Lou Rawls' memor
 able collection\, such as:\n\n<i>You’ll Never Find Another Love like Mine
 \nLady Love\nGroovy People</i>\nand many more! \n\nBring chairs and your f
 avorite beverage\, and grab dinner at Cantina food truck. \n\n<i>Because w
 e appreciate everything you do to help the Gardens\, Propagator Club membe
 rs always get in free. Please let us know if you'll be joining us at our r
 eserved table.\n\nVolunteers can enjoy a complimentary ticket to one summe
 r concert of their choice. Please email volunteer@aldridgegardens.com to a
 ttend.</i>\n\n<i>Gates open at 5:00. Please note this event is rain or shi
 ne. No refunds.</i>\n\n
X-WR-RELCALID:db23918c4421cb553b89f6b078601c78
X-WR-TIMEZONE:America/Chicago
BEGIN:VTIMEZONE
TZID:America/Chicago
BEGIN:STANDARD
TZNAME:CST
DTSTART:20131103T020000
TZOFFSETFROM:-0500
TZOFFSETTO:-0600
RDATE:20141102T020000
RDATE:20151101T020000
END:STANDARD
BEGIN:DAYLIGHT
TZNAME:CDT
DTSTART:20140309T020000
TZOFFSETFROM:-0600
TZOFFSETTO:-0500
RDATE:20150308T020000
END:DAYLIGHT
END:VTIMEZONE
BEGIN:VEVENT
UID:c01c9808-0aa3-4246-95e3-363cf52f88cb
DTSTAMP:20260424T052742Z
DESCRIPTION:Don't miss the second terrific event in our 2014 Summer Concert
  Series!\n\nBo Berry and Tommy Stewart's 'Lou Rawls Review' will live unde
 r the stars on Thursday\, July 24!\n\nWith accompaniment provided by an up
 beat big band\, the evening will include many songs from Lou Rawls' memora
 ble collection\, such as:\n\n<i>You’ll Never Find Another Love like Mine\n
 Lady Love\nGroovy People</i>\nand many more! \n\nBring chairs and your fav
 orite beverage\, and grab dinner at Cantina food truck. \n\n<i>Because we 
 appreciate everything you do to help the Gardens\, Propagator Club members
  always get in free. Please let us know if you'll be joining us at our res
 erved table.\n\nVolunteers can enjoy a complimentary ticket to one summer 
 concert of their choice. Please email volunteer@aldridgegardens.com to att
 end.</i>\n\n<i>Gates open at 5:00. Please note this event is rain or shine
 . No refunds.</i>\n\n
DTSTART;TZID=America/Chicago:20140724T190000
DTEND;TZID=America/Chicago:20140724T210000
LOCATION:
SUMMARY:Summer Concert Series: Lou Rawls Review
END:VEVENT
END:VCALENDAR
