BEGIN:VCALENDAR
VERSION:2.0
PRODID:-//aldridgegardens.com//NONSGML kigkonsult.se iCalcreator 2.30.10//
CALSCALE:GREGORIAN
METHOD:PUBLISH
UID:3c8929e8-f89d-4b81-a109-4dea3f83c807
X-WR-CALDESC:Are you ready for a mind-body workout in the most beautiful sp
 ot in Hoover?\n\nYou already come to the Gardens to walk - why not join us
  to workout? For the second time this summer we're partnering with Hoover 
 Fitness to blast fat! \n\nJoin Jason Cerniglia\, owner of Hoover Fitness\,
  author and personal trainer\, for his 21-Day Fat Blast training program. 
 It's one of the most popular workout programs in our area\, and it will be
  offered Mondays\, Wednesdays and Fridays at 5:45 a.m. August 4-24.\n\nThe
  program is geared towards any age or fitness level - beginners are welcom
 e\, and everyone will see results. The cost is $89 and includes group trai
 ning three times weekly\, the 301 workout\, cardio and weight workouts for
  non-group days\, and simple diet tips and quick changes. \n\nFor more inf
 ormation on the class or to enroll\, email Jason at info@hooverfitness.com
 . To see photos and results from the program\, visit hooverfitness.com.
X-WR-RELCALID:3370b3a818c95cd64177498be037ace7
X-WR-TIMEZONE:America/Chicago
BEGIN:VTIMEZONE
TZID:America/Chicago
BEGIN:STANDARD
TZNAME:CST
DTSTART:20131103T020000
TZOFFSETFROM:-0500
TZOFFSETTO:-0600
RDATE:20141102T020000
RDATE:20151101T020000
END:STANDARD
BEGIN:DAYLIGHT
TZNAME:CDT
DTSTART:20140309T020000
TZOFFSETFROM:-0600
TZOFFSETTO:-0500
RDATE:20150308T020000
END:DAYLIGHT
END:VTIMEZONE
BEGIN:VEVENT
UID:3c106a86-d839-48c3-8d49-52e9cbf5bce3
DTSTAMP:20260424T041633Z
DESCRIPTION:Are you ready for a mind-body workout in the most beautiful spo
 t in Hoover?\n\nYou already come to the Gardens to walk - why not join us 
 to workout? For the second time this summer we're partnering with Hoover F
 itness to blast fat! \n\nJoin Jason Cerniglia\, owner of Hoover Fitness\, 
 author and personal trainer\, for his 21-Day Fat Blast training program. I
 t's one of the most popular workout programs in our area\, and it will be 
 offered Mondays\, Wednesdays and Fridays at 5:45 a.m. August 4-24.\n\nThe 
 program is geared towards any age or fitness level - beginners are welcome
 \, and everyone will see results. The cost is $89 and includes group train
 ing three times weekly\, the 301 workout\, cardio and weight workouts for 
 non-group days\, and simple diet tips and quick changes. \n\nFor more info
 rmation on the class or to enroll\, email Jason at info@hooverfitness.com.
  To see photos and results from the program\, visit hooverfitness.com.
DTSTART;TZID=America/Chicago:20140806T054500
DTEND;TZID=America/Chicago:20140806T063000
LOCATION:Under the Pavilion
SUMMARY:Get Fit at the Gardens!
END:VEVENT
END:VCALENDAR
