BEGIN:VCALENDAR
VERSION:2.0
PRODID:-//aldridgegardens.com//NONSGML kigkonsult.se iCalcreator 2.30.10//
CALSCALE:GREGORIAN
METHOD:PUBLISH
UID:f54b5f26-2422-4376-952b-a1d197c6759b
X-WR-CALDESC:Thank you\, volunteers!\n\nAldridge Gardens has six full-time 
 employees\, three part-time employees\, and hundreds of volunteers who ass
 ist us in every area\, including the grounds\, house\, gallery\, classes\,
  events and more. Their help is essential to our success and without them 
 we could not run our day-to-day operation.\n\nThat's why this year we're h
 osting a Volunteer Appreciation Cookout to say thank you to each one of yo
 u who gives your time and talent to help our Gardens grow.\n\nPlease join 
 us under the Pavilion on Thursday\, August 7 from 6:00 to 8:00 p.m. Aldrid
 ge Gardens' staff members will be cooking hot dogs\, hamburgers and other 
 tasty treats as our summertime celebration for all you do. \n\nIf you plan
  to join us\, click the link below to RSVP. We look forward to seeing you 
 Thursday. Thank you for your service to the Gardens!\n
X-WR-RELCALID:69960886d9b80839c8af32903e7dac71
X-WR-TIMEZONE:America/Chicago
BEGIN:VTIMEZONE
TZID:America/Chicago
BEGIN:STANDARD
TZNAME:CST
DTSTART:20131103T020000
TZOFFSETFROM:-0500
TZOFFSETTO:-0600
RDATE:20141102T020000
RDATE:20151101T020000
END:STANDARD
BEGIN:DAYLIGHT
TZNAME:CDT
DTSTART:20140309T020000
TZOFFSETFROM:-0600
TZOFFSETTO:-0500
RDATE:20150308T020000
END:DAYLIGHT
END:VTIMEZONE
BEGIN:VEVENT
UID:8f7a51b9-55ee-4fd7-8013-1fca885745c0
DTSTAMP:20260424T041432Z
DESCRIPTION:Thank you\, volunteers!\n\nAldridge Gardens has six full-time e
 mployees\, three part-time employees\, and hundreds of volunteers who assi
 st us in every area\, including the grounds\, house\, gallery\, classes\, 
 events and more. Their help is essential to our success and without them w
 e could not run our day-to-day operation.\n\nThat's why this year we're ho
 sting a Volunteer Appreciation Cookout to say thank you to each one of you
  who gives your time and talent to help our Gardens grow.\n\nPlease join u
 s under the Pavilion on Thursday\, August 7 from 6:00 to 8:00 p.m. Aldridg
 e Gardens' staff members will be cooking hot dogs\, hamburgers and other t
 asty treats as our summertime celebration for all you do. \n\nIf you plan 
 to join us\, click the link below to RSVP. We look forward to seeing you T
 hursday. Thank you for your service to the Gardens!\n
DTSTART;TZID=America/Chicago:20140807T180000
DTEND;TZID=America/Chicago:20140807T200000
LOCATION:Pavilion
SUMMARY:Volunteer Appreciation Cookout
END:VEVENT
END:VCALENDAR
