BEGIN:VCALENDAR
VERSION:2.0
PRODID:-//aldridgegardens.com//NONSGML kigkonsult.se iCalcreator 2.30.10//
CALSCALE:GREGORIAN
METHOD:PUBLISH
UID:fddc3d9c-dc1b-432b-9ddc-9f183f3e8c06
X-WR-CALDESC:<i>Sponsored by Ed and Barbara Randle</i>\n\nAfter a career in
  tropical medicine\, Alabama native Larry K. Martin combined his life expe
 rience and love of the natural world to become a renowned wildlife artist.
  With close to 40 years as a painter\, his works can be found on hundreds 
 of products including greeting cards\, murals and collectible items\, and 
 have hung in both Houses of Congress\, the National Wildlife Federation\, 
 the office of former Governor Bob Riley and many more. Meet Larry and hear
  why he says\, 'Variety keeps the creativity flowing.'
X-WR-RELCALID:239918efac2dab78198faf0b86c77113
X-WR-TIMEZONE:America/Chicago
BEGIN:VTIMEZONE
TZID:America/Chicago
BEGIN:STANDARD
TZNAME:CST
DTSTART:20131103T020000
TZOFFSETFROM:-0500
TZOFFSETTO:-0600
RDATE:20141102T020000
RDATE:20151101T020000
END:STANDARD
BEGIN:DAYLIGHT
TZNAME:CDT
DTSTART:20140309T020000
TZOFFSETFROM:-0600
TZOFFSETTO:-0500
RDATE:20150308T020000
END:DAYLIGHT
END:VTIMEZONE
BEGIN:VEVENT
UID:491da418-eba3-4b33-9bd1-fdd96f4106e9
DTSTAMP:20260424T041510Z
DESCRIPTION:<i>Sponsored by Ed and Barbara Randle</i>\n\nAfter a career in 
 tropical medicine\, Alabama native Larry K. Martin combined his life exper
 ience and love of the natural world to become a renowned wildlife artist. 
 With close to 40 years as a painter\, his works can be found on hundreds o
 f products including greeting cards\, murals and collectible items\, and h
 ave hung in both Houses of Congress\, the National Wildlife Federation\, t
 he office of former Governor Bob Riley and many more. Meet Larry and hear 
 why he says\, 'Variety keeps the creativity flowing.'
DTSTART;TZID=America/Chicago:20140814T180000
DTEND;TZID=America/Chicago:20140814T200000
LOCATION:Eddie and Kay Aldridge Art and Historical Collections Museum
SUMMARY:Meet the Artist Reception: Larry K. Martin
END:VEVENT
END:VCALENDAR
