BEGIN:VCALENDAR
VERSION:2.0
PRODID:-//aldridgegardens.com//NONSGML kigkonsult.se iCalcreator 2.30.10//
CALSCALE:GREGORIAN
METHOD:PUBLISH
UID:310fe012-6f1a-4a01-a0fa-0a211522f8e7
X-WR-CALDESC:After a career in tropical medicine\, Alabama native Larry K. 
 Martin combined his life experience and love of the natural world to becom
 e a renowned wildlife artist. With close to 40 years as a painter\, his wo
 rks can be found on hundreds of products including greeting cards\, murals
  and collectible items\, and have hung in both Houses of Congress\, the Na
 tional Wildlife Federation\, the office of former Governor Bob Riley and m
 any more. Meet Larry and hear why he says\, 'Variety keeps the creativity 
 flowing.'\n\nPropagator Club Members are invited to join us for a private 
 meet and greet wine reception with the artist beginning at 5:00. \n\nAs al
 ways\, this event is free for Propagator Club members\, but so we may prop
 erly plan\, we ask that you kindly RSVP.
X-WR-RELCALID:a43cb119eea00ae88bd5ad8d4b6c6437
X-WR-TIMEZONE:America/Chicago
BEGIN:VTIMEZONE
TZID:America/Chicago
BEGIN:STANDARD
TZNAME:CST
DTSTART:20131103T020000
TZOFFSETFROM:-0500
TZOFFSETTO:-0600
RDATE:20141102T020000
RDATE:20151101T020000
END:STANDARD
BEGIN:DAYLIGHT
TZNAME:CDT
DTSTART:20140309T020000
TZOFFSETFROM:-0600
TZOFFSETTO:-0500
RDATE:20150308T020000
END:DAYLIGHT
END:VTIMEZONE
BEGIN:VEVENT
UID:eab44998-0562-4e91-9b20-f389ff1d3bff
DTSTAMP:20260424T041432Z
DESCRIPTION:After a career in tropical medicine\, Alabama native Larry K. M
 artin combined his life experience and love of the natural world to become
  a renowned wildlife artist. With close to 40 years as a painter\, his wor
 ks can be found on hundreds of products including greeting cards\, murals 
 and collectible items\, and have hung in both Houses of Congress\, the Nat
 ional Wildlife Federation\, the office of former Governor Bob Riley and ma
 ny more. Meet Larry and hear why he says\, 'Variety keeps the creativity f
 lowing.'\n\nPropagator Club Members are invited to join us for a private m
 eet and greet wine reception with the artist beginning at 5:00. \n\nAs alw
 ays\, this event is free for Propagator Club members\, but so we may prope
 rly plan\, we ask that you kindly RSVP.
DTSTART;TZID=America/Chicago:20140814T170000
DTEND;TZID=America/Chicago:20140814T180000
LOCATION:
SUMMARY:Propagator Club Wine Reception
END:VEVENT
END:VCALENDAR
