BEGIN:VCALENDAR
VERSION:2.0
PRODID:-//aldridgegardens.com//NONSGML kigkonsult.se iCalcreator 2.30.10//
CALSCALE:GREGORIAN
METHOD:PUBLISH
UID:8acc3980-0e8f-417a-9805-48a277a88838
X-WR-CALDESC:Led by Dr. Richard and Patricia Ryel\, this is your chance to 
 see the Gardens like you never have before. Enjoy a 2-hour guided walk and
  discover the birds of Aldridge Gardens as they migrate through our area. 
 \n\nLast year we saw 48 different species of birds - join us and bring bin
 oculars so you don't miss a thing! \n\nThis walk is free and for members o
 nly\, but is limited to 15 participants so we ask that you please pre-regi
 ster.
X-WR-RELCALID:2cb16851f57cd08a42059062a8c822b5
X-WR-TIMEZONE:America/Chicago
BEGIN:VTIMEZONE
TZID:America/Chicago
BEGIN:STANDARD
TZNAME:CST
DTSTART:20131103T020000
TZOFFSETFROM:-0500
TZOFFSETTO:-0600
RDATE:20141102T020000
RDATE:20151101T020000
END:STANDARD
BEGIN:DAYLIGHT
TZNAME:CDT
DTSTART:20140309T020000
TZOFFSETFROM:-0600
TZOFFSETTO:-0500
RDATE:20150308T020000
END:DAYLIGHT
END:VTIMEZONE
BEGIN:VEVENT
UID:73beb36a-043a-4329-8b88-bb890ecd33a9
DTSTAMP:20260424T041443Z
DESCRIPTION:Led by Dr. Richard and Patricia Ryel\, this is your chance to s
 ee the Gardens like you never have before. Enjoy a 2-hour guided walk and 
 discover the birds of Aldridge Gardens as they migrate through our area. 
 \n\nLast year we saw 48 different species of birds - join us and bring bin
 oculars so you don't miss a thing! \n\nThis walk is free and for members o
 nly\, but is limited to 15 participants so we ask that you please pre-regi
 ster.
DTSTART;TZID=America/Chicago:20140816T080000
DTEND;TZID=America/Chicago:20140816T100000
LOCATION:Entrance Plaza
SUMMARY:Members Only Guided Bird Walk
END:VEVENT
END:VCALENDAR
