BEGIN:VCALENDAR
VERSION:2.0
PRODID:-//aldridgegardens.com//NONSGML kigkonsult.se iCalcreator 2.30.10//
CALSCALE:GREGORIAN
METHOD:PUBLISH
UID:c915ec27-5ed9-457e-bc0d-68f537118661
X-WR-CALDESC:THIS EVENT IS FULL. PLEASE CONTACT AUDREY ANN WILSON AT AAWILS
 ON@ALDRIDGEGARDENS.COM IF YOU'D LIKE TO BE PLACED ON A WAITING LIST. THANK
  YOU!\n\nThis Paint Party with Beverly Klamer is back by popular demand! U
 sing brushes and a palette knife\, participants will learn how to paint Th
 e Old Oak Tree on a 24” x 24” canvas. Just in time for autumn\, we’ll be u
 sing acrylic paints in the fall color palette\, including shades of green\
 , rust and ochre. All art supplies are furnished\, and you’ll get to take 
 home a beautiful finished painting. Wear old clothes or bring an apron. An
 d\, this is a party\, so bring your favorite beverage and we’ll provide ch
 eese and crackers. Gather up your friends and join us for an evening of fu
 n at the Gardens!  Ages 21+ \n$32 members/ $42 non-members
X-WR-RELCALID:706458d23d64fe8ac6d34798a724a1ec
X-WR-TIMEZONE:America/Chicago
BEGIN:VTIMEZONE
TZID:America/Chicago
BEGIN:STANDARD
TZNAME:CST
DTSTART:20131103T020000
TZOFFSETFROM:-0500
TZOFFSETTO:-0600
RDATE:20141102T020000
RDATE:20151101T020000
END:STANDARD
BEGIN:DAYLIGHT
TZNAME:CDT
DTSTART:20140309T020000
TZOFFSETFROM:-0600
TZOFFSETTO:-0500
RDATE:20150308T020000
END:DAYLIGHT
END:VTIMEZONE
BEGIN:VEVENT
UID:f8316547-7662-48c6-858c-4b996d576a89
DTSTAMP:20260424T041421Z
DESCRIPTION:THIS EVENT IS FULL. PLEASE CONTACT AUDREY ANN WILSON AT AAWILSO
 N@ALDRIDGEGARDENS.COM IF YOU'D LIKE TO BE PLACED ON A WAITING LIST. THANK 
 YOU!\n\nThis Paint Party with Beverly Klamer is back by popular demand! Us
 ing brushes and a palette knife\, participants will learn how to paint The
  Old Oak Tree on a 24” x 24” canvas. Just in time for autumn\, we’ll be us
 ing acrylic paints in the fall color palette\, including shades of green\,
  rust and ochre. All art supplies are furnished\, and you’ll get to take h
 ome a beautiful finished painting. Wear old clothes or bring an apron. And
 \, this is a party\, so bring your favorite beverage and we’ll provide che
 ese and crackers. Gather up your friends and join us for an evening of fun
  at the Gardens!  Ages 21+ \n$32 members/ $42 non-members
DTSTART;TZID=America/Chicago:20140819T180000
DTEND;TZID=America/Chicago:20140819T210000
LOCATION:
SUMMARY:Paint Party!
END:VEVENT
END:VCALENDAR
