BEGIN:VCALENDAR
VERSION:2.0
PRODID:-//aldridgegardens.com//NONSGML kigkonsult.se iCalcreator 2.30.10//
CALSCALE:GREGORIAN
METHOD:PUBLISH
UID:b5c85603-f9b4-4941-9cdc-95ce42a60338
X-WR-CALDESC:Aldridge Gardens has partnered with an innovative travel servi
 ce\, offering exceptional experiences and great value. \n\nThe Aldridge Ga
 rdens Travel Club will provide both cruise and land-based programs to dest
 inations worldwide. The Club will meet quarterly at the Gardens for presen
 tations on selected destinations by a destination expert. \n\nThe first me
 eting will feature an incredible trip to the Amazon\, departing March 6\, 
 2015. Explore the Earth’s greatest wilderness on her mightiest river. Trav
 el more than 600 miles on the “Greatest Voyage in Natural History” aboard 
 International Expedition’s newest and specially-designed river ship\, La E
 strella Amazonica. Join us to learn more about this trip of a lifetime.\n
 \nYou do not have to be a member of Aldridge Gardens to be part of the Tra
 vel Club\, and when you use the Club's services\, you will support Aldridg
 e Gardens with a tax-deductible donation. \n\n\n\n
X-WR-RELCALID:34062cc599eb13dad4bdc49ad697da38
X-WR-TIMEZONE:America/Chicago
BEGIN:VTIMEZONE
TZID:America/Chicago
BEGIN:STANDARD
TZNAME:CST
DTSTART:20131103T020000
TZOFFSETFROM:-0500
TZOFFSETTO:-0600
RDATE:20141102T020000
RDATE:20151101T020000
END:STANDARD
BEGIN:DAYLIGHT
TZNAME:CDT
DTSTART:20140309T020000
TZOFFSETFROM:-0600
TZOFFSETTO:-0500
RDATE:20150308T020000
END:DAYLIGHT
END:VTIMEZONE
BEGIN:VEVENT
UID:39bad219-6ebd-42c9-9582-54dd0cb88232
DTSTAMP:20260424T042016Z
DESCRIPTION:Aldridge Gardens has partnered with an innovative travel servic
 e\, offering exceptional experiences and great value. \n\nThe Aldridge Gar
 dens Travel Club will provide both cruise and land-based programs to desti
 nations worldwide. The Club will meet quarterly at the Gardens for present
 ations on selected destinations by a destination expert. \n\nThe first mee
 ting will feature an incredible trip to the Amazon\, departing March 6\, 2
 015. Explore the Earth’s greatest wilderness on her mightiest river. Trave
 l more than 600 miles on the “Greatest Voyage in Natural History” aboard I
 nternational Expedition’s newest and specially-designed river ship\, La Es
 trella Amazonica. Join us to learn more about this trip of a lifetime.\n\n
 You do not have to be a member of Aldridge Gardens to be part of the Trave
 l Club\, and when you use the Club's services\, you will support Aldridge 
 Gardens with a tax-deductible donation. \n\n\n\n
DTSTART;TZID=America/Chicago:20140821T190000
DTEND;TZID=America/Chicago:20140821T203000
LOCATION:Aldridge House
SUMMARY:Travel Club - Inaugural Meeting
END:VEVENT
END:VCALENDAR
