BEGIN:VCALENDAR
VERSION:2.0
PRODID:-//aldridgegardens.com//NONSGML kigkonsult.se iCalcreator 2.30.10//
CALSCALE:GREGORIAN
METHOD:PUBLISH
UID:4903731a-ecec-4c7d-994b-6d06d43b327b
X-WR-CALDESC:Propagator Club members - join us for a reception under the pa
 vilion and exclusive seating for the last show of the 2014 Summer Concert 
 Series!\n\nEnjoy wine\, food and fellowship with other Propagator Club mem
 bers\, then stick around for Foxxy Fatts and Company live under the stars!
 \n\nAs always\, this event is free for Propagator Club members\, but we do
  ask that you kindly RSVP.
X-WR-RELCALID:38eb281deb927bfc858e0229077f8cf0
X-WR-TIMEZONE:America/Chicago
BEGIN:VTIMEZONE
TZID:America/Chicago
BEGIN:STANDARD
TZNAME:CST
DTSTART:20131103T020000
TZOFFSETFROM:-0500
TZOFFSETTO:-0600
RDATE:20141102T020000
RDATE:20151101T020000
END:STANDARD
BEGIN:DAYLIGHT
TZNAME:CDT
DTSTART:20140309T020000
TZOFFSETFROM:-0600
TZOFFSETTO:-0500
RDATE:20150308T020000
END:DAYLIGHT
END:VTIMEZONE
BEGIN:VEVENT
UID:027276cd-a047-4ed5-acee-72a22c13e1c5
DTSTAMP:20260424T041421Z
DESCRIPTION:Propagator Club members - join us for a reception under the pav
 ilion and exclusive seating for the last show of the 2014 Summer Concert S
 eries!\n\nEnjoy wine\, food and fellowship with other Propagator Club memb
 ers\, then stick around for Foxxy Fatts and Company live under the stars!
 \n\nAs always\, this event is free for Propagator Club members\, but we do
  ask that you kindly RSVP.
DTSTART;TZID=America/Chicago:20140828T170000
DTEND;TZID=America/Chicago:20140828T190000
LOCATION:
SUMMARY:Propagator Club Reception
END:VEVENT
END:VCALENDAR
