BEGIN:VCALENDAR
VERSION:2.0
PRODID:-//aldridgegardens.com//NONSGML kigkonsult.se iCalcreator 2.30.10//
CALSCALE:GREGORIAN
METHOD:PUBLISH
UID:d6f3b656-71e9-4bc1-99cc-b8d3e90c76fa
X-WR-CALDESC:Are you ready for a mind-body workout in the most beautiful sp
 ot in Hoover?\n\nYou already come to the Gardens to walk - why not join us
  to workout?  We're partnering with Hoover Fitness again this fall to blas
 t fat! \n\nJoin Jason Cerniglia\, owner of Hoover Fitness\, author and per
 sonal trainer\, for his 21-Day Fat Blast training program. It's one of the
  most popular workout programs in our area\, and it will be offered Monday
 s\, Wednesdays and Fridays at 5:45 a.m. starting September 8.\n\nThe progr
 am is geared towards any age or fitness level - beginners are welcome\, an
 d everyone will see results. The cost is $89 and includes group training t
 hree times weekly\, the 301 workout\, cardio and weight workouts for non-g
 roup days\, and simple diet tips and quick changes. \n\nFor more informati
 on on the class or to enroll\, email Jason at info@hooverfitness.com. To s
 ee photos and results from the program\, visit hooverfitness.com.
X-WR-RELCALID:2474e71cfb2d4ca7af6104afdf80cc9f
X-WR-TIMEZONE:America/Chicago
BEGIN:VTIMEZONE
TZID:America/Chicago
BEGIN:STANDARD
TZNAME:CST
DTSTART:20131103T020000
TZOFFSETFROM:-0500
TZOFFSETTO:-0600
RDATE:20141102T020000
RDATE:20151101T020000
END:STANDARD
BEGIN:DAYLIGHT
TZNAME:CDT
DTSTART:20140309T020000
TZOFFSETFROM:-0600
TZOFFSETTO:-0500
RDATE:20150308T020000
RDATE:20160313T020000
END:DAYLIGHT
END:VTIMEZONE
BEGIN:VEVENT
UID:86b45bdd-c10c-418d-988d-2df569c1810f
DTSTAMP:20260424T031347Z
DESCRIPTION:Are you ready for a mind-body workout in the most beautiful spo
 t in Hoover?\n\nYou already come to the Gardens to walk - why not join us 
 to workout?  We're partnering with Hoover Fitness again this fall to blast
  fat! \n\nJoin Jason Cerniglia\, owner of Hoover Fitness\, author and pers
 onal trainer\, for his 21-Day Fat Blast training program. It's one of the 
 most popular workout programs in our area\, and it will be offered Mondays
 \, Wednesdays and Fridays at 5:45 a.m. starting September 8.\n\nThe progra
 m is geared towards any age or fitness level - beginners are welcome\, and
  everyone will see results. The cost is $89 and includes group training th
 ree times weekly\, the 301 workout\, cardio and weight workouts for non-gr
 oup days\, and simple diet tips and quick changes. \n\nFor more informatio
 n on the class or to enroll\, email Jason at info@hooverfitness.com. To se
 e photos and results from the program\, visit hooverfitness.com.
DTSTART;TZID=America/Chicago:20140915T054500
DTEND;TZID=America/Chicago:20140915T063000
LOCATION:Under the Pavilion
SUMMARY:Get Fit at the Gardens!
END:VEVENT
END:VCALENDAR
