BEGIN:VCALENDAR
VERSION:2.0
PRODID:-//aldridgegardens.com//NONSGML kigkonsult.se iCalcreator 2.30.10//
CALSCALE:GREGORIAN
METHOD:PUBLISH
UID:bbc7d500-5df4-45d6-982d-ea6f7de6c9cf
X-WR-CALDESC:Find out what all the buzz is about in this Family Nature Prog
 ram!\nThrough a webcam\, participants will see a beehive up close\, and wi
 ll learn about the ins and outs of the hive. From the comfort of Aldridge 
 House\, beekeepers will take the class through a hive inspection\, explain
 ing a worker's daily chores\, discussing drones and telling what it really
  takes to be 'queen.' \n\nInstructors: \nSallie Lee\, Extension Agent\, Be
 ekeepers Association and Beekeeper\nLiz Alosi\, Beekeeper at Aldridge Gard
 ens and Beekeepers Association\nLoyd Mehaffey\, Alabama Master Beekeeper a
 nd member of Alabama and Shelby County Beekeepers' Associations\n\nMembers
 : \nChild $5\nAdult $10\nFamily maximum $20\n\nNon-members: \nChild $7\nAd
 ult $13\nFamily maximum $26\n\n<I>Raindate for this Family Nature Program 
 is Tuesday\, September 23.</i>
X-WR-RELCALID:8a735cd37e457479c082a811ca695ba9
X-WR-TIMEZONE:America/Chicago
BEGIN:VTIMEZONE
TZID:America/Chicago
BEGIN:STANDARD
TZNAME:CST
DTSTART:20131103T020000
TZOFFSETFROM:-0500
TZOFFSETTO:-0600
RDATE:20141102T020000
RDATE:20151101T020000
END:STANDARD
BEGIN:DAYLIGHT
TZNAME:CDT
DTSTART:20140309T020000
TZOFFSETFROM:-0600
TZOFFSETTO:-0500
RDATE:20150308T020000
RDATE:20160313T020000
END:DAYLIGHT
END:VTIMEZONE
BEGIN:VEVENT
UID:a9de6329-0afd-4ca4-8952-5158ae8e48ee
DTSTAMP:20260424T030410Z
DESCRIPTION:Find out what all the buzz is about in this Family Nature Progr
 am!\nThrough a webcam\, participants will see a beehive up close\, and wil
 l learn about the ins and outs of the hive. From the comfort of Aldridge H
 ouse\, beekeepers will take the class through a hive inspection\, explaini
 ng a worker's daily chores\, discussing drones and telling what it really 
 takes to be 'queen.' \n\nInstructors: \nSallie Lee\, Extension Agent\, Bee
 keepers Association and Beekeeper\nLiz Alosi\, Beekeeper at Aldridge Garde
 ns and Beekeepers Association\nLoyd Mehaffey\, Alabama Master Beekeeper an
 d member of Alabama and Shelby County Beekeepers' Associations\n\nMembers:
  \nChild $5\nAdult $10\nFamily maximum $20\n\nNon-members: \nChild $7\nAdu
 lt $13\nFamily maximum $26\n\n<I>Raindate for this Family Nature Program i
 s Tuesday\, September 23.</i>
DTSTART;TZID=America/Chicago:20140916T173000
DTEND;TZID=America/Chicago:20140916T190000
LOCATION:
SUMMARY:Bees Up Close
END:VEVENT
END:VCALENDAR
