BEGIN:VCALENDAR
VERSION:2.0
PRODID:-//aldridgegardens.com//NONSGML kigkonsult.se iCalcreator 2.30.10//
CALSCALE:GREGORIAN
METHOD:PUBLISH
UID:382350e2-d87e-4452-afa9-67e761b916e7
X-WR-CALDESC:The elephant serves an important role in the ecology of many A
 frican nations\, but because of poaching\, these iconic animals could be e
 xtinct in less than a decade. \n\nInternationally-known conservationist Pr
 atik Patel\, founder of the African Wildlife Trust and CEO of Safari Legac
 y\, will speak at the Gardens. Focusing on African elephants\, he'll discu
 ss the variety of initiatives designed to benefit broader efforts to comba
 t illegal wildlife trade\, and what must be done to prevent the elephant’s
  demise.\n\nPropagator Club members are invited to join us tor food\, wine
  and fellowship\, and to meet with Patel prior to the public presentation.
  As always\, this event is free for Propagator Club members\, but we ask t
 hat you kindly RSVP.
X-WR-RELCALID:6e2be646cb8e72e64d1c68df1ef59b83
X-WR-TIMEZONE:America/Chicago
BEGIN:VTIMEZONE
TZID:America/Chicago
BEGIN:STANDARD
TZNAME:CST
DTSTART:20131103T020000
TZOFFSETFROM:-0500
TZOFFSETTO:-0600
RDATE:20141102T020000
RDATE:20151101T020000
END:STANDARD
BEGIN:DAYLIGHT
TZNAME:CDT
DTSTART:20140309T020000
TZOFFSETFROM:-0600
TZOFFSETTO:-0500
RDATE:20150308T020000
RDATE:20160313T020000
END:DAYLIGHT
END:VTIMEZONE
BEGIN:VEVENT
UID:bbafe678-6762-4e10-8076-e798ce7cf50e
DTSTAMP:20260424T030532Z
DESCRIPTION:The elephant serves an important role in the ecology of many Af
 rican nations\, but because of poaching\, these iconic animals could be ex
 tinct in less than a decade. \n\nInternationally-known conservationist Pra
 tik Patel\, founder of the African Wildlife Trust and CEO of Safari Legacy
 \, will speak at the Gardens. Focusing on African elephants\, he'll discus
 s the variety of initiatives designed to benefit broader efforts to combat
  illegal wildlife trade\, and what must be done to prevent the elephant’s 
 demise.\n\nPropagator Club members are invited to join us tor food\, wine 
 and fellowship\, and to meet with Patel prior to the public presentation. 
 As always\, this event is free for Propagator Club members\, but we ask th
 at you kindly RSVP.
DTSTART;TZID=America/Chicago:20140918T170000
DTEND;TZID=America/Chicago:20140918T180000
LOCATION:
SUMMARY:Propagator Club Meeting
END:VEVENT
END:VCALENDAR
