BEGIN:VCALENDAR
VERSION:2.0
PRODID:-//aldridgegardens.com//NONSGML kigkonsult.se iCalcreator 2.30.10//
CALSCALE:GREGORIAN
METHOD:PUBLISH
UID:02268dc7-a31c-4421-bacb-d91c770ea16e
X-WR-CALDESC:The elephant serves an important role in the ecology of many A
 frican nations\, but because of poaching\, these iconic animals could be e
 xtinct in less than a decade. \n\nInternationally-known conservationist Pr
 atik Patel\, founder of the African Wildlife Trust and CEO of Safari Legac
 y\, will speak at the Gardens. Focusing on African elephants\, he'll discu
 ss the variety of initiatives designed to benefit broader efforts to comba
 t illegal wildlife trade\, and what must be done to prevent the elephant’s
  demise.\n
X-WR-RELCALID:c30f58eacd533d5a1ab505ed6aa92f65
X-WR-TIMEZONE:America/Chicago
BEGIN:VTIMEZONE
TZID:America/Chicago
BEGIN:STANDARD
TZNAME:CST
DTSTART:20131103T020000
TZOFFSETFROM:-0500
TZOFFSETTO:-0600
RDATE:20141102T020000
RDATE:20151101T020000
END:STANDARD
BEGIN:DAYLIGHT
TZNAME:CDT
DTSTART:20140309T020000
TZOFFSETFROM:-0600
TZOFFSETTO:-0500
RDATE:20150308T020000
RDATE:20160313T020000
END:DAYLIGHT
END:VTIMEZONE
BEGIN:VEVENT
UID:ae29ba68-99bc-42a0-968a-3b297cc204a0
DTSTAMP:20260424T031214Z
DESCRIPTION:The elephant serves an important role in the ecology of many Af
 rican nations\, but because of poaching\, these iconic animals could be ex
 tinct in less than a decade. \n\nInternationally-known conservationist Pra
 tik Patel\, founder of the African Wildlife Trust and CEO of Safari Legacy
 \, will speak at the Gardens. Focusing on African elephants\, he'll discus
 s the variety of initiatives designed to benefit broader efforts to combat
  illegal wildlife trade\, and what must be done to prevent the elephant’s 
 demise.\n
DTSTART;TZID=America/Chicago:20140918T180000
DTEND;TZID=America/Chicago:20140918T193000
LOCATION:
SUMMARY:Speaker: Conservationist Pratik Patel
END:VEVENT
END:VCALENDAR
