BEGIN:VCALENDAR
VERSION:2.0
PRODID:-//aldridgegardens.com//NONSGML kigkonsult.se iCalcreator 2.30.10//
CALSCALE:GREGORIAN
METHOD:PUBLISH
UID:e939b97d-b001-4b4a-847c-d35879cc05b4
X-WR-CALDESC:Led by Dr. Richard and Patricia Ryel\, this is your chance to 
 see the Gardens like you never have before. Enjoy a 2-hour guided walk and
  discover the birds of Aldridge Gardens as they migrate through our area. 
 \n\nLast year we saw 48 different species of birds - join us and bring bin
 oculars so you don't miss a thing! \n\nThis walk is free and for members o
 nly\, but is limited to 15 participants so we ask that you please pre-regi
 ster.
X-WR-RELCALID:9e85f93f482e25aa24e8758272d2fa0f
X-WR-TIMEZONE:America/Chicago
BEGIN:VTIMEZONE
TZID:America/Chicago
BEGIN:STANDARD
TZNAME:CST
DTSTART:20131103T020000
TZOFFSETFROM:-0500
TZOFFSETTO:-0600
RDATE:20141102T020000
RDATE:20151101T020000
END:STANDARD
BEGIN:DAYLIGHT
TZNAME:CDT
DTSTART:20140309T020000
TZOFFSETFROM:-0600
TZOFFSETTO:-0500
RDATE:20150308T020000
RDATE:20160313T020000
END:DAYLIGHT
END:VTIMEZONE
BEGIN:VEVENT
UID:b92b492e-0f06-4d78-a3bc-a2ec6dd02ada
DTSTAMP:20260424T030532Z
DESCRIPTION:Led by Dr. Richard and Patricia Ryel\, this is your chance to s
 ee the Gardens like you never have before. Enjoy a 2-hour guided walk and 
 discover the birds of Aldridge Gardens as they migrate through our area. 
 \n\nLast year we saw 48 different species of birds - join us and bring bin
 oculars so you don't miss a thing! \n\nThis walk is free and for members o
 nly\, but is limited to 15 participants so we ask that you please pre-regi
 ster.
DTSTART;TZID=America/Chicago:20140920T080000
DTEND;TZID=America/Chicago:20140920T100000
LOCATION:Entrance Plaza
SUMMARY:Members Only Guided Bird Walk
END:VEVENT
END:VCALENDAR
