BEGIN:VCALENDAR
VERSION:2.0
PRODID:-//aldridgegardens.com//NONSGML kigkonsult.se iCalcreator 2.30.10//
CALSCALE:GREGORIAN
METHOD:PUBLISH
UID:76e88d41-3d17-44fe-86bb-0dbf6388d42c
X-WR-CALDESC:$7 admission for visitors 18 and older\n$5 children 2 and olde
 r\, and all crafts are included\nChildren younger than 2 are free\n$30 fam
 ily maximum \n<i>Please note this is a special event\, and we will not off
 er free admission to the Gardens during Whispers from the Past.</i>\n. \nT
 his fall take a trip back in time to rediscover the culture and contributi
 ons of Native Alabamians at Whispers From the Past – A Native American Exp
 erience.\n\nNative American life will take shape through demonstrations of
  flintknapping\, cooking and hunting weapons\, and activities like leaf po
 unding\, beading\, corn grinding\, gourd painting and pottery. Children ca
 n try their hands at games and activities. Hear the sounds of drums and fl
 utes\, and the highlight of the day - three dance performances by Native A
 merican Pow-Wow dancers.\n\n<a href='http://aldridgegardens.com/education/
 events/annual_events/'>Click here for much more on the day's events\, vend
 ors\, and what visitors can expect at <i> Whispers from the Past.</i></a>
 \n
X-WR-RELCALID:81c91d10e84a77df58546b4dc6e227e4
X-WR-TIMEZONE:America/Chicago
BEGIN:VTIMEZONE
TZID:America/Chicago
BEGIN:STANDARD
TZNAME:CST
DTSTART:20131103T020000
TZOFFSETFROM:-0500
TZOFFSETTO:-0600
RDATE:20141102T020000
RDATE:20151101T020000
END:STANDARD
BEGIN:DAYLIGHT
TZNAME:CDT
DTSTART:20140309T020000
TZOFFSETFROM:-0600
TZOFFSETTO:-0500
RDATE:20150308T020000
RDATE:20160313T020000
END:DAYLIGHT
END:VTIMEZONE
BEGIN:VEVENT
UID:ddaf9a31-98ee-4393-a181-3f92fa9113ed
DTSTAMP:20260420T025501Z
DESCRIPTION:$7 admission for visitors 18 and older\n$5 children 2 and older
 \, and all crafts are included\nChildren younger than 2 are free\n$30 fami
 ly maximum \n<i>Please note this is a special event\, and we will not offe
 r free admission to the Gardens during Whispers from the Past.</i>\n. \nTh
 is fall take a trip back in time to rediscover the culture and contributio
 ns of Native Alabamians at Whispers From the Past – A Native American Expe
 rience.\n\nNative American life will take shape through demonstrations of 
 flintknapping\, cooking and hunting weapons\, and activities like leaf pou
 nding\, beading\, corn grinding\, gourd painting and pottery. Children can
  try their hands at games and activities. Hear the sounds of drums and flu
 tes\, and the highlight of the day - three dance performances by Native Am
 erican Pow-Wow dancers.\n\n<a href='http://aldridgegardens.com/education/e
 vents/annual_events/'>Click here for much more on the day's events\, vendo
 rs\, and what visitors can expect at <i> Whispers from the Past.</i></a>\n
DTSTART;TZID=America/Chicago:20141005T113000
DTEND;TZID=America/Chicago:20141005T190000
LOCATION:
SUMMARY:Whispers from the Past - A Native American Experience
END:VEVENT
END:VCALENDAR
