BEGIN:VCALENDAR
VERSION:2.0
PRODID:-//aldridgegardens.com//NONSGML kigkonsult.se iCalcreator 2.30.10//
CALSCALE:GREGORIAN
METHOD:PUBLISH
UID:949c5538-c2c4-424d-9f4f-8bd663a2b532
X-WR-CALDESC:This slow and gentle yoga class is great for women age 40+ who
  want to reconnect with their inner joy through yoga and nature. \nBring a
  yoga mat\, a thick towel\, a positive attitude and an open heart.  \nThis
  class is a body positive class that welcomes all shapes and sizes.\n\nWed
 nesdays\, October 1-22\n$60 for the series\n<a href='https://www.eventbrit
 e.com/e/finding-joy-gentle-yoga-4-week-series-with-star-rosser-tickets-126
 98927835'>Class size is limited to 10. Click here now to pre-register. </a
 >\n\n\n
X-WR-RELCALID:dde60cb8d79e84129f436cabdb8f4ad6
X-WR-TIMEZONE:America/Chicago
BEGIN:VTIMEZONE
TZID:America/Chicago
BEGIN:STANDARD
TZNAME:CST
DTSTART:20131103T020000
TZOFFSETFROM:-0500
TZOFFSETTO:-0600
RDATE:20141102T020000
RDATE:20151101T020000
END:STANDARD
BEGIN:DAYLIGHT
TZNAME:CDT
DTSTART:20140309T020000
TZOFFSETFROM:-0600
TZOFFSETTO:-0500
RDATE:20150308T020000
RDATE:20160313T020000
END:DAYLIGHT
END:VTIMEZONE
BEGIN:VEVENT
UID:0272f7f8-077f-44b6-9308-d064c8775771
DTSTAMP:20260424T020212Z
DESCRIPTION:This slow and gentle yoga class is great for women age 40+ who 
 want to reconnect with their inner joy through yoga and nature. \nBring a 
 yoga mat\, a thick towel\, a positive attitude and an open heart.  \nThis 
 class is a body positive class that welcomes all shapes and sizes.\n\nWedn
 esdays\, October 1-22\n$60 for the series\n<a href='https://www.eventbrite
 .com/e/finding-joy-gentle-yoga-4-week-series-with-star-rosser-tickets-1269
 8927835'>Class size is limited to 10. Click here now to pre-register. </a>
 \n\n\n
DTSTART;TZID=America/Chicago:20141008T093000
DTEND;TZID=America/Chicago:20141008T104500
LOCATION:The patio at Roots Garden and Gift Shop
SUMMARY:Finding Joy Gentle Yoga
END:VEVENT
END:VCALENDAR
